BEGIN:VCALENDAR
VERSION:2.0
PRODID:-//wp-events-plugin.com//7.2.3.1//EN
TZID:Europe/Paris
X-WR-TIMEZONE:Europe/Paris
BEGIN:VEVENT
UID:73@ville-petitbourg.fr
DTSTART;TZID=America/Guadeloupe:20240830T183000
DTEND;TZID=America/Guadeloupe:20240830T203000
DTSTAMP:20240827T195155Z
URL:https://www.ville-petitbourg.fr/events/zumba-geante-en-fluo/
SUMMARY:Zumba Géante en fluo
DESCRIPTION:/*! elementor - v3.21.0 - 30-04-2024 */\n.elementor-heading-tit
 le{padding:0\;margin:0\;line-height:1}.elementor-widget-heading .elementor
 -heading-title[class*=elementor-size-]>a{color:inherit\;font-size:inherit\
 ;line-height:inherit}.elementor-widget-heading .elementor-heading-title.el
 ementor-size-small{font-size:15px}.elementor-widget-heading .elementor-hea
 ding-title.elementor-size-medium{font-size:19px}.elementor-widget-heading 
 .elementor-heading-title.elementor-size-large{font-size:29px}.elementor-wi
 dget-heading .elementor-heading-title.elementor-size-xl{font-size:39px}.el
 ementor-widget-heading .elementor-heading-title.elementor-size-xxl{font-si
 ze:59px}\n\nVendredi 30 août - 18h30\nSPORTS - LOISIRS\n\nClôture Vakans
  O Tibou : Zumba géante en fluo\n\nLa Ville de Petit-Bourg vous invite à
  clôturer les grandes vacances 2024 en beauté avec Steeve SEGOR et DANII
  FIT' . Rendez-vous pour une Zumba géante:\n\n 	le vendredi 30 août 2024
 \,\n 	Dès 18h30\,\n 	Sur la place Dominique LARIFLA.\n\nSeul\, en famille
 s ou entre amis on vous attend nombreux !\nGrosse surprise les candidates 
 de Miss Guadeloupe pour Miss France seront présentes pour l’occasion.\n
 \nN’oubliez pas votre tenue fluo\, votre serviette\, votre bouteille d
 ’eau et votre bonne humeur !\n\n/*! elementor - v3.21.0 - 30-04-2024 */\
 n.elementor-widget-image{text-align:center}.elementor-widget-image a{displ
 ay:inline-block}.elementor-widget-image a img[src$=".svg"]{width:48px}.ele
 mentor-widget-image img{vertical-align:middle\;display:inline-block}\n\n\n
 INFOS PRATIQUES\n\nTous les événements\n\n\n/*! elementor - v3.21.0 - 30
 -04-2024 */\n.elementor-widget-google_maps .elementor-widget-container{ove
 rflow:hidden}.elementor-widget-google_maps .elementor-custom-embed{line-he
 ight:0}.elementor-widget-google_maps iframe{height:300px}\n\n
ATTACH;FMTTYPE=image/jpeg:https://www.ville-petitbourg.fr/wp-content/uploa
 ds/2024/08/Image-mise-en-avant-site-web-1.png
CATEGORIES:Loisir,Sport
END:VEVENT
BEGIN:VTIMEZONE
TZID:America/Guadeloupe
X-LIC-LOCATION:America/Guadeloupe
BEGIN:STANDARD
DTSTART:20230831T183000
TZOFFSETFROM:-0400
TZOFFSETTO:-0400
TZNAME:AST
END:STANDARD
END:VTIMEZONE
END:VCALENDAR