BEGIN:VCALENDAR
VERSION:2.0
PRODID:-//wp-events-plugin.com//7.2.3.1//EN
TZID:Europe/Paris
X-WR-TIMEZONE:Europe/Paris
BEGIN:VEVENT
UID:28@ville-petitbourg.fr
DTSTART;TZID=America/Guadeloupe;VALUE=DATE:20240313
DTEND;TZID=America/Guadeloupe;VALUE=DATE:20240401
DTSTAMP:20240320T102402Z
URL:https://www.ville-petitbourg.fr/events/yabise-serie-2024-le-festival-c
 ri-de-femmes-revient-a-petit-bourg/
SUMMARY:Yabise série 2024 : le Festival Cri de femmes revient à Petit-Bou
 rg
DESCRIPTION:Du 13 mars au 31 mars		\n			Festival		\n		Le Festival « Cri de
  femmes » est de retour à Petit-Bourg. Du 14 au 31 mars 2024\, la Galeri
 e Emergenc’Art située au Jardin de Valombreuse accueillera 5 exposition
 s\, 1 vente privée d’art\, 1 concert et 3 masterclasses nocturnes.Les t
 emps forts de l’édition 2024Jusqu’à la fin du mois\, différentes re
 ncontres sont prévues en ce sens et pour aller encore plus loin à la Gal
 erie Emergenc’Art de Petit-Bourg.Jeudi 14 mars 2024\, à 18h30 : verniss
 age de l’exposition5 expositions3 masterclasses nocturnes1 concert1 vent
 e privée d’artPlus d'infos et billeterieneftapoetry@live.fr		\n								
 																						\n			INFOS PRATIQUES		\n			\n						Tous les événem
 ents\n					\n		Du 14 au 31 mars 2024A  la Galerie Emergenc’Art de Petit
 -BourgGalerie Emergen’c Art0690 55 65 450690 47 05 66		\n			
ATTACH;FMTTYPE=image/jpeg:https://www.ville-petitbourg.fr/wp-content/uploa
 ds/2024/03/428708258_7663913010285469_3489207543900784425_n.jpg
END:VEVENT
BEGIN:VTIMEZONE
TZID:America/Guadeloupe
X-LIC-LOCATION:America/Guadeloupe
BEGIN:STANDARD
DTSTART:20230314T000000
TZOFFSETFROM:-0400
TZOFFSETTO:-0400
TZNAME:AST
END:STANDARD
END:VTIMEZONE
END:VCALENDAR