BEGIN:VCALENDAR
VERSION:2.0
PRODID:-//wp-events-plugin.com//7.2.3.1//EN
TZID:Europe/Paris
X-WR-TIMEZONE:Europe/Paris
BEGIN:VEVENT
UID:8@ville-petitbourg.fr
DTSTART;TZID=America/Guadeloupe;VALUE=DATE:20240114
DTEND;TZID=America/Guadeloupe;VALUE=DATE:20240122
DTSTAMP:20240109T111118Z
URL:https://www.ville-petitbourg.fr/events/w35-petit-bourg-tournoi-de-tenn
 is-international-feminin/
SUMMARY:W35 Petit-Bourg : Tournoi de Tennis International Féminin
DESCRIPTION:
ATTACH;FMTTYPE=image/jpeg:https://www.ville-petitbourg.fr/wp-content/uploa
 ds/2023/12/Sans-titre.png
END:VEVENT
BEGIN:VTIMEZONE
TZID:America/Guadeloupe
X-LIC-LOCATION:America/Guadeloupe
BEGIN:STANDARD
DTSTART:20230114T000000
TZOFFSETFROM:-0400
TZOFFSETTO:-0400
TZNAME:AST
END:STANDARD
END:VTIMEZONE
END:VCALENDAR