BEGIN:VCALENDAR
VERSION:2.0
PRODID:-//wp-events-plugin.com//7.2.3.1//EN
TZID:Europe/Paris
X-WR-TIMEZONE:Europe/Paris
BEGIN:VEVENT
UID:165@ville-petitbourg.fr
DTSTART;TZID=America/Guadeloupe:20250830T080000
DTEND;TZID=America/Guadeloupe:20250830T120000
DTSTAMP:20250829T203150Z
URL:https://www.ville-petitbourg.fr/events/visite-pedagogique-en-mer-du-ba
 rrage-anti-sargasses-darnouville/
SUMMARY:Visite pédagogique en mer du barrage anti-sargasses d’Arnouville
DESCRIPTION:samedi 20 août - 08h  à 12h				\n					CITOYENNETÉ				\n		La 
 Ville de Petit-Bourg vous convie à une immersion pédagogique sur le barr
 age anti-sargasses. -  le samedi 30 août 2025\,-  de 8h à 12h\,-  au D
 épart : Port de la Vinaigrerie (zone technique)  Découvrez le barrage f
 lottant mis en place pour limiter l’arrivée des sargasses et protéger 
 notre littoral   Inscription gratuite ici :  		\n					CLIQUEZ ICI				\n	
 				INFOS PRATIQUES				\n					\n									Tous les événements\n					\n			
ATTACH;FMTTYPE=image/jpeg:https://www.ville-petitbourg.fr/wp-content/uploa
 ds/2025/08/WhatsApp-Image-2025-08-28-at-20.29.11.jpeg
CATEGORIES:Citoyenneté,Environnement
END:VEVENT
BEGIN:VTIMEZONE
TZID:America/Guadeloupe
X-LIC-LOCATION:America/Guadeloupe
BEGIN:STANDARD
DTSTART:20240830T080000
TZOFFSETFROM:-0400
TZOFFSETTO:-0400
TZNAME:AST
END:STANDARD
END:VTIMEZONE
END:VCALENDAR