BEGIN:VCALENDAR
VERSION:2.0
PRODID:-//wp-events-plugin.com//7.2.3.1//EN
TZID:Europe/Paris
X-WR-TIMEZONE:Europe/Paris
BEGIN:VEVENT
UID:76@ville-petitbourg.fr
DTSTART;TZID=America/Guadeloupe:20240829T083000
DTEND;TZID=America/Guadeloupe:20240829T140000
DTSTAMP:20240828T181131Z
URL:https://www.ville-petitbourg.fr/events/village-danimation-au-depart-de
 -la-6eme-etape-du-tour-cycliste-de-guadeloupe/
SUMMARY:Village d'animation au départ de la 6ème étape du Tour cycliste 
 de Guadeloupe
DESCRIPTION:Jeudi 29 août 2024 - 8h30 à 14h		\n			LOISIR		\n		Rendez-vous
  :Dès 8h30 jusqu'à 14h sur la place Dominique LARIFLA\, dans le cadre du
  départ de la 6ème étape du 73ème Tour Cycliste de la Guadeloupe.Venez
  nombreux profiter des différents stands et structures gonflables pour le
 s enfants.		\n																										\n			INFOS PRATIQUES		\n			\n					
 				Tous les événements\n					\n		Le jeudi 29 août 2024Dès 8h30\,A la 
 Place Dominique LARIFLAMairieTél :0590 95 38 00		\n			
ATTACH;FMTTYPE=image/jpeg:https://www.ville-petitbourg.fr/wp-content/uploa
 ds/2024/08/WhatsApp-Image-2024-08-28-at-14.08.09.jpeg
CATEGORIES:Loisir
END:VEVENT
BEGIN:VTIMEZONE
TZID:America/Guadeloupe
X-LIC-LOCATION:America/Guadeloupe
BEGIN:STANDARD
DTSTART:20230830T083000
TZOFFSETFROM:-0400
TZOFFSETTO:-0400
TZNAME:AST
END:STANDARD
END:VTIMEZONE
END:VCALENDAR