BEGIN:VCALENDAR
VERSION:2.0
PRODID:-//wp-events-plugin.com//7.2.3.1//EN
TZID:Europe/Paris
X-WR-TIMEZONE:Europe/Paris
BEGIN:VEVENT
UID:70@ville-petitbourg.fr
DTSTART;TZID=America/Guadeloupe;VALUE=DATE:20240810
DTEND;TZID=America/Guadeloupe;VALUE=DATE:20240811
DTSTAMP:20240719T160551Z
URL:https://www.ville-petitbourg.fr/events/vakans-o-tibou-prise-deau/
SUMMARY:Vakans O Tibou - Prise d'Eau
DESCRIPTION:/*! elementor - v3.21.0 - 30-04-2024 */\n.elementor-heading-tit
 le{padding:0\;margin:0\;line-height:1}.elementor-widget-heading .elementor
 -heading-title[class*=elementor-size-]>a{color:inherit\;font-size:inherit\
 ;line-height:inherit}.elementor-widget-heading .elementor-heading-title.el
 ementor-size-small{font-size:15px}.elementor-widget-heading .elementor-hea
 ding-title.elementor-size-medium{font-size:19px}.elementor-widget-heading 
 .elementor-heading-title.elementor-size-large{font-size:29px}.elementor-wi
 dget-heading .elementor-heading-title.elementor-size-xl{font-size:39px}.el
 ementor-widget-heading .elementor-heading-title.elementor-size-xxl{font-si
 ze:59px}\n\nSamedi 10 Août\nLOISIRS\n\n/*! elementor - v3.21.0 - 30-04-20
 24 */\n.elementor-column .elementor-spacer-inner{height:var(--spacer-size)
 }.e-con{--container-widget-width:100%}.e-con-inner>.elementor-widget-space
 r\,.e-con>.elementor-widget-spacer{width:var(--container-widget-width\,var
 (--spacer-size))\;--align-self:var(--container-widget-align-self\,initial)
 \;--flex-shrink:0}.e-con-inner>.elementor-widget-spacer>.elementor-widget-
 container\,.e-con>.elementor-widget-spacer>.elementor-widget-container{hei
 ght:100%\;width:100%}.e-con-inner>.elementor-widget-spacer>.elementor-widg
 et-container>.elementor-spacer\,.e-con>.elementor-widget-spacer>.elementor
 -widget-container>.elementor-spacer{height:100%}.e-con-inner>.elementor-wi
 dget-spacer>.elementor-widget-container>.elementor-spacer>.elementor-space
 r-inner\,.e-con>.elementor-widget-spacer>.elementor-widget-container>.elem
 entor-spacer>.elementor-spacer-inner{height:var(--container-widget-height\
 ,var(--spacer-size))}.e-con-inner>.elementor-widget-spacer.elementor-widge
 t-empty\,.e-con>.elementor-widget-spacer.elementor-widget-empty{position:r
 elative\;min-height:22px\;min-width:22px}.e-con-inner>.elementor-widget-sp
 acer.elementor-widget-empty .elementor-widget-empty-icon\,.e-con>.elemento
 r-widget-spacer.elementor-widget-empty .elementor-widget-empty-icon{positi
 on:absolute\;top:0\;bottom:0\;left:0\;right:0\;margin:auto\;padding:0\;wid
 th:22px\;height:22px}\n\n 	14H30 Tournoi de basket – Terrain de Tivoli\n
 \nInscription sur place au 0690 97 08 89\n\n 	19H00 Déboulé avec MANGROV
  LA\n\nDress code : blanc et maré tèt en blanc\n\nDépart : Parking de l
 ’église de Prise-d’Eau – Route Départementale 1 – Route de Fonta
 rabie – Route de Cocoyer – Chemin de Fond’Or – Route Départementa
 le 1/Chemin de Prise-d’Eau – Route de Fontarabie – Demi-tour devant 
 la maison ALY – Route de Fontarabie - Route Départementale 1/Chemin de 
 Prise-d’Eau\n\nArrivée : Devant le podium.\n\n/*! elementor - v3.21.0 -
  30-04-2024 */\n.elementor-widget-image{text-align:center}.elementor-widge
 t-image a{display:inline-block}.elementor-widget-image a img[src$=".svg"]{
 width:48px}.elementor-widget-image img{vertical-align:middle\;display:inli
 ne-block}\n\n\nINFOS PRATIQUES\n\nTous les événements\n\n\n/*! elementor
  - v3.21.0 - 30-04-2024 */\n.elementor-widget-google_maps .elementor-widge
 t-container{overflow:hidden}.elementor-widget-google_maps .elementor-custo
 m-embed{line-height:0}.elementor-widget-google_maps iframe{height:300px}\n
 \n
ATTACH;FMTTYPE=image/jpeg:https://www.ville-petitbourg.fr/wp-content/uploa
 ds/2024/07/Image-mise-en-avant-site-web-2.png
CATEGORIES:Loisir,Sport
END:VEVENT
BEGIN:VTIMEZONE
TZID:America/Guadeloupe
X-LIC-LOCATION:America/Guadeloupe
BEGIN:STANDARD
DTSTART:20230811T000000
TZOFFSETFROM:-0400
TZOFFSETTO:-0400
TZNAME:AST
END:STANDARD
END:VTIMEZONE
END:VCALENDAR