BEGIN:VCALENDAR
VERSION:2.0
PRODID:-//wp-events-plugin.com//7.2.3.1//EN
TZID:Europe/Paris
X-WR-TIMEZONE:Europe/Paris
BEGIN:VEVENT
UID:71@ville-petitbourg.fr
DTSTART;TZID=America/Guadeloupe;VALUE=DATE:20240811
DTEND;TZID=America/Guadeloupe;VALUE=DATE:20240812
DTSTAMP:20240719T160726Z
URL:https://www.ville-petitbourg.fr/events/vakans-o-tibou-prise-deau-2/
SUMMARY:Vakans O Tibou - Prise d'Eau
DESCRIPTION:/*! elementor - v3.21.0 - 30-04-2024 */.elementor-heading-title
 {padding:0\;margin:0\;line-height:1}.elementor-widget-heading .elementor-h
 eading-title[class*=elementor-size-]>a{color:inherit\;font-size:inherit\;l
 ine-height:inherit}.elementor-widget-heading .elementor-heading-title.elem
 entor-size-small{font-size:15px}.elementor-widget-heading .elementor-headi
 ng-title.elementor-size-medium{font-size:19px}.elementor-widget-heading .e
 lementor-heading-title.elementor-size-large{font-size:29px}.elementor-widg
 et-heading .elementor-heading-title.elementor-size-xl{font-size:39px}.elem
 entor-widget-heading .elementor-heading-title.elementor-size-xxl{font-size
 :59px}\n\nDimanche 11 Août\nLOISIRS\n\n/*! elementor - v3.21.0 - 30-04-20
 24 */.elementor-column .elementor-spacer-inner{height:var(--spacer-size)}.
 e-con{--container-widget-width:100%}.e-con-inner>.elementor-widget-spacer\
 ,.e-con>.elementor-widget-spacer{width:var(--container-widget-width\,var(-
 -spacer-size))\;--align-self:var(--container-widget-align-self\,initial)\;
 --flex-shrink:0}.e-con-inner>.elementor-widget-spacer>.elementor-widget-co
 ntainer\,.e-con>.elementor-widget-spacer>.elementor-widget-container{heigh
 t:100%\;width:100%}.e-con-inner>.elementor-widget-spacer>.elementor-widget
 -container>.elementor-spacer\,.e-con>.elementor-widget-spacer>.elementor-w
 idget-container>.elementor-spacer{height:100%}.e-con-inner>.elementor-widg
 et-spacer>.elementor-widget-container>.elementor-spacer>.elementor-spacer-
 inner\,.e-con>.elementor-widget-spacer>.elementor-widget-container>.elemen
 tor-spacer>.elementor-spacer-inner{height:var(--container-widget-height\,v
 ar(--spacer-size))}.e-con-inner>.elementor-widget-spacer.elementor-widget-
 empty\,.e-con>.elementor-widget-spacer.elementor-widget-empty{position:rel
 ative\;min-height:22px\;min-width:22px}.e-con-inner>.elementor-widget-spac
 er.elementor-widget-empty .elementor-widget-empty-icon\,.e-con>.elementor-
 widget-spacer.elementor-widget-empty .elementor-widget-empty-icon{position
 :absolute\;top:0\;bottom:0\;left:0\;right:0\;margin:auto\;padding:0\;width
 :22px\;height:22px}\n\n 	9H00 : Messe à l’Eglise Sainte Thérèse de Pr
 ise D’Eau\n\n\n 	15H00 : Danse de rue (Salsa\, Quadrille\, Boléro\, Val
 se etc.)\n\n\n 	18H00 : Remise en service de la fontaine de Prise d’Eau\
 n\n\n 	19H00 : Animation podium avec KALBAS KA et MODUL + en live\n\n/*! e
 lementor - v3.21.0 - 30-04-2024 */.elementor-widget-image{text-align:cente
 r}.elementor-widget-image a{display:inline-block}.elementor-widget-image a
  img[src$=".svg"]{width:48px}.elementor-widget-image img{vertical-align:mi
 ddle\;display:inline-block}\n\n\nINFOS PRATIQUES\n\nTous les événements\
 n\n\n 	Service culture\n\nTél. : 0690 92 43 06\n\n/*! elementor - v3.21.0
  - 30-04-2024 */.elementor-widget-google_maps .elementor-widget-container{
 overflow:hidden}.elementor-widget-google_maps .elementor-custom-embed{line
 -height:0}.elementor-widget-google_maps iframe{height:300px}\n\n
ATTACH;FMTTYPE=image/jpeg:https://www.ville-petitbourg.fr/wp-content/uploa
 ds/2024/07/Image-mise-en-avant-site-web-2.png
CATEGORIES:Loisir,Sport
END:VEVENT
BEGIN:VTIMEZONE
TZID:America/Guadeloupe
X-LIC-LOCATION:America/Guadeloupe
BEGIN:STANDARD
DTSTART:20230812T000000
TZOFFSETFROM:-0400
TZOFFSETTO:-0400
TZNAME:AST
END:STANDARD
END:VTIMEZONE
END:VCALENDAR