BEGIN:VCALENDAR
VERSION:2.0
PRODID:-//wp-events-plugin.com//7.2.3.1//EN
TZID:Europe/Paris
X-WR-TIMEZONE:Europe/Paris
BEGIN:VEVENT
UID:68@ville-petitbourg.fr
DTSTART;TZID=America/Guadeloupe;VALUE=DATE:20240727
DTEND;TZID=America/Guadeloupe;VALUE=DATE:20240728
DTSTAMP:20240719T160508Z
URL:https://www.ville-petitbourg.fr/events/vakans-o-tibou-2/
SUMMARY:Vakans O Tibou - Daubin
DESCRIPTION:/*! elementor - v3.21.0 - 30-04-2024 */\n.elementor-heading-tit
 le{padding:0\;margin:0\;line-height:1}.elementor-widget-heading .elementor
 -heading-title[class*=elementor-size-]>a{color:inherit\;font-size:inherit\
 ;line-height:inherit}.elementor-widget-heading .elementor-heading-title.el
 ementor-size-small{font-size:15px}.elementor-widget-heading .elementor-hea
 ding-title.elementor-size-medium{font-size:19px}.elementor-widget-heading 
 .elementor-heading-title.elementor-size-large{font-size:29px}.elementor-wi
 dget-heading .elementor-heading-title.elementor-size-xl{font-size:39px}.el
 ementor-widget-heading .elementor-heading-title.elementor-size-xxl{font-si
 ze:59px}\n\nLOISIRS\nSamedi 27 juillet - Daubin\n\n/*! elementor - v3.21.0
  - 30-04-2024 */\n.elementor-column .elementor-spacer-inner{height:var(--s
 pacer-size)}.e-con{--container-widget-width:100%}.e-con-inner>.elementor-w
 idget-spacer\,.e-con>.elementor-widget-spacer{width:var(--container-widget
 -width\,var(--spacer-size))\;--align-self:var(--container-widget-align-sel
 f\,initial)\;--flex-shrink:0}.e-con-inner>.elementor-widget-spacer>.elemen
 tor-widget-container\,.e-con>.elementor-widget-spacer>.elementor-widget-co
 ntainer{height:100%\;width:100%}.e-con-inner>.elementor-widget-spacer>.ele
 mentor-widget-container>.elementor-spacer\,.e-con>.elementor-widget-spacer
 >.elementor-widget-container>.elementor-spacer{height:100%}.e-con-inner>.e
 lementor-widget-spacer>.elementor-widget-container>.elementor-spacer>.elem
 entor-spacer-inner\,.e-con>.elementor-widget-spacer>.elementor-widget-cont
 ainer>.elementor-spacer>.elementor-spacer-inner{height:var(--container-wid
 get-height\,var(--spacer-size))}.e-con-inner>.elementor-widget-spacer.elem
 entor-widget-empty\,.e-con>.elementor-widget-spacer.elementor-widget-empty
 {position:relative\;min-height:22px\;min-width:22px}.e-con-inner>.elemento
 r-widget-spacer.elementor-widget-empty .elementor-widget-empty-icon\,.e-co
 n>.elementor-widget-spacer.elementor-widget-empty .elementor-widget-empty-
 icon{position:absolute\;top:0\;bottom:0\;left:0\;right:0\;margin:auto\;pad
 ding:0\;width:22px\;height:22px}\n\n 	9H00  Tournoi de football mixte –
  phases qualitatives\n\nInscription au 0690 18 22 65 jusqu’au 26 juillet
  2024\n\n 	14H00  Tournoi de football phases finales\n\n\n 	19H00 Déboul
 é avec MKM\n\n/*! elementor - v3.21.0 - 30-04-2024 */\n.elementor-widget-
 image{text-align:center}.elementor-widget-image a{display:inline-block}.el
 ementor-widget-image a img[src$=".svg"]{width:48px}.elementor-widget-image
  img{vertical-align:middle\;display:inline-block}\n\n\nINFOS PRATIQUES\n\n
 Tous les événements\n\n\n 	Service Culture\n\nTél : 0690 92 43 06\n\n/*
 ! elementor - v3.21.0 - 30-04-2024 */\n.elementor-widget-google_maps .elem
 entor-widget-container{overflow:hidden}.elementor-widget-google_maps .elem
 entor-custom-embed{line-height:0}.elementor-widget-google_maps iframe{heig
 ht:300px}\n\n
ATTACH;FMTTYPE=image/jpeg:https://www.ville-petitbourg.fr/wp-content/uploa
 ds/2024/07/Image-mise-en-avant-site-web-2.png
CATEGORIES:Loisir,Sport
END:VEVENT
BEGIN:VTIMEZONE
TZID:America/Guadeloupe
X-LIC-LOCATION:America/Guadeloupe
BEGIN:STANDARD
DTSTART:20230728T000000
TZOFFSETFROM:-0400
TZOFFSETTO:-0400
TZNAME:AST
END:STANDARD
END:VTIMEZONE
END:VCALENDAR