BEGIN:VCALENDAR
VERSION:2.0
PRODID:-//wp-events-plugin.com//7.2.3.1//EN
TZID:Europe/Paris
X-WR-TIMEZONE:Europe/Paris
BEGIN:VEVENT
UID:19@ville-petitbourg.fr
DTSTART;TZID=America/Guadeloupe:20240218T150000
DTEND;TZID=America/Guadeloupe:20240218T180000
DTSTAMP:20240201T132303Z
URL:https://www.ville-petitbourg.fr/events/ultra-trace-tanbou-swe-ka/
SUMMARY:Ultra Trace Tanbou SWE KA
DESCRIPTION:Venez vous dépenser tout en vous amusant ! Avec le programme s
 portif qui accompagne cette évènement Ultra Trace entièrement GRATUIT p
 our le public.\n\nRetrouvez nous pour le Tanbou SWE KA le dimanche 18 fév
 rier à 15h au Complexe sportif Gaël Monfils ! {Play
ATTACH;FMTTYPE=image/jpeg:https://www.ville-petitbourg.fr/wp-content/uploa
 ds/2024/02/activite-swe-ka.jpeg
LOCATION:Complexe sportif Gaël Monfils\, Zac de Colin\, Petit-Bourg\, 9717
 0\, Guadeloupe
GEO:16.154345;-61.677184
X-APPLE-STRUCTURED-LOCATION;VALUE=URI;X-ADDRESS=Zac de Colin\, Petit-Bourg\
 , 97170\, Guadeloupe;X-APPLE-RADIUS=100;X-TITLE=Complexe sportif Gaël Mon
 fils:geo:16.154345,-61.677184
END:VEVENT
BEGIN:VTIMEZONE
TZID:America/Guadeloupe
X-LIC-LOCATION:America/Guadeloupe
BEGIN:STANDARD
DTSTART:20230218T150000
TZOFFSETFROM:-0400
TZOFFSETTO:-0400
TZNAME:AST
END:STANDARD
END:VTIMEZONE
END:VCALENDAR