BEGIN:VCALENDAR
VERSION:2.0
PRODID:-//wp-events-plugin.com//7.2.3.1//EN
TZID:Europe/Paris
X-WR-TIMEZONE:Europe/Paris
BEGIN:VEVENT
UID:123@ville-petitbourg.fr
DTSTART;TZID=America/Guadeloupe;VALUE=DATE:20250307
DTEND;TZID=America/Guadeloupe;VALUE=DATE:20250310
DTSTAMP:20250218T183234Z
URL:https://www.ville-petitbourg.fr/events/ultra-trace-guadeloupe-2025/
SUMMARY:Ultra Trace Guadeloupe 2025
DESCRIPTION:Pour une 11ème édition\, Ultra Trace sera de retour le 7\, le
  8 et 9 mars 2025. Le T10\, le T25\, le T55 ou encore l’UT100\, lequel d
 e ces challenges relèverez-vous ?Pour plus d’infos : Cliquez ici.Vous s
 ouhaitez vous inscrire ? Cliquez iciUltra Trace de Guadeloupe		\n									
 																					\n																														\n					INFOS PRATIQUE
 S				\n					\n									Tous les événements\n					\n		Mairie : 0590 95 3
 8 00: contact@ville-petitbourg.fr		\n			
ATTACH;FMTTYPE=image/jpeg:https://www.ville-petitbourg.fr/wp-content/uploa
 ds/2025/02/Image-mise-en-avant-site-web-21.png
CATEGORIES:Sport
END:VEVENT
BEGIN:VTIMEZONE
TZID:America/Guadeloupe
X-LIC-LOCATION:America/Guadeloupe
BEGIN:STANDARD
DTSTART:20240307T000000
TZOFFSETFROM:-0400
TZOFFSETTO:-0400
TZNAME:AST
END:STANDARD
END:VTIMEZONE
END:VCALENDAR