BEGIN:VCALENDAR
VERSION:2.0
PRODID:-//wp-events-plugin.com//7.2.3.1//EN
TZID:Europe/Paris
X-WR-TIMEZONE:Europe/Paris
BEGIN:VEVENT
UID:14@ville-petitbourg.fr
DTSTART;TZID=America/Guadeloupe:20240216T050000
DTEND;TZID=America/Guadeloupe:20240218T180000
DTSTAMP:20240201T123830Z
URL:https://www.ville-petitbourg.fr/events/ultra-trace-de-guadeloupe-2024/
SUMMARY:Ultra Trace de Guadeloupe 2024
DESCRIPTION:\n {Play} Ultra Trace Guadeloupe 2024 se vit à Petit-Bourg les
  16\,17 et 18 février prochain au complexe sportif Gaël Monfils.\n\n\nVe
 nez vous dépenser tout en vous amusant ! Un programme sportif accompagne 
 cet évènement Ultra Trace entièrement GRATUIT pour le public. Les tout-
  petits ne sont pas oubliés!\n\n\n\nRetrouvez les animations sportives su
 ivantes :\n-Zumba\n-Bootcamp\n-Swé ka\n-Course des Ti Ultra\n\n\nRelevez 
 le défi !\n\n\n\nPlus d’informations sur https://www.tanbourando.org/ \
 n\n\n\n\ncommunqué de presse utdg 24 (1)
ATTACH;FMTTYPE=image/jpeg:https://www.ville-petitbourg.fr/wp-content/uploa
 ds/2024/01/WhatsApp-Image-2024-01-31-at-07.52.59.jpeg
END:VEVENT
BEGIN:VTIMEZONE
TZID:America/Guadeloupe
X-LIC-LOCATION:America/Guadeloupe
BEGIN:STANDARD
DTSTART:20230216T050000
TZOFFSETFROM:-0400
TZOFFSETTO:-0400
TZNAME:AST
END:STANDARD
END:VTIMEZONE
END:VCALENDAR