BEGIN:VCALENDAR
VERSION:2.0
PRODID:-//wp-events-plugin.com//7.2.3.1//EN
TZID:Europe/Paris
X-WR-TIMEZONE:Europe/Paris
BEGIN:VEVENT
UID:185@ville-petitbourg.fr
DTSTART;TZID=America/Guadeloupe:20260118T000000
DTEND;TZID=America/Guadeloupe:20260125T000000
DTSTAMP:20260113T152018Z
URL:https://www.ville-petitbourg.fr/events/tournoi-international-feminin-i
 tf-w35-de-petit-bourg-2026/
SUMMARY:Tournoi International Féminin ITF W35 de Petit-Bourg 2026
DESCRIPTION:Du 18 au 25 janvier				\n					SPORT				\n		Du 18 au 25 janvier\
 , le Complexe sportif Gaël Monfils de Colin accueille la 11ᵉ édition d
 u tournoi ITF féminin. Des joueuses internationales et des espoirs du ten
 nis mondial s’affronteront toute la semaine pour des matchs de haut nive
 au.Entrée gratuite – événement ouvert à tous.		\n																			
 											\n					INFOS PRATIQUES				\n					\n									Tous les événemen
 ts\n					\n			
ATTACH;FMTTYPE=image/jpeg:https://www.ville-petitbourg.fr/wp-content/uploa
 ds/2026/01/Mise-en-avant-site-et-application-scaled.png
CATEGORIES:Sport
END:VEVENT
BEGIN:VTIMEZONE
TZID:America/Guadeloupe
X-LIC-LOCATION:America/Guadeloupe
BEGIN:STANDARD
DTSTART:20250118T000000
TZOFFSETFROM:-0400
TZOFFSETTO:-0400
TZNAME:AST
END:STANDARD
END:VTIMEZONE
END:VCALENDAR