BEGIN:VCALENDAR
VERSION:2.0
PRODID:-//wp-events-plugin.com//7.2.3.1//EN
TZID:Europe/Paris
X-WR-TIMEZONE:Europe/Paris
BEGIN:VEVENT
UID:173@ville-petitbourg.fr
DTSTART;TZID=America/Guadeloupe:20251025T080000
DTEND;TZID=America/Guadeloupe:20251026T210000
DTSTAMP:20251016T154321Z
URL:https://www.ville-petitbourg.fr/events/tournoi-international-descrime-
 2025/
SUMMARY:Tournoi International d’Escrime 2025
DESCRIPTION:SPORT				\n					Du 25 au 26 octobre 2025 - 8h\n		Petit-Bourg\, 
 capitale caribéenne de l’escrime !Le Palais des Sports Laura Flessel ac
 cueille\, du 25 au 26 octobre 2025\, le Tournoi International d’Escrime 
 (TIE).Organisé par le Club d’Escrime de Petit-Bourg avec le soutien de 
 la Ville\, cet événement rassemblera des délégations venues des États
 -Unis\, de Cuba\, du Canada\, de la Suisse et de plusieurs territoires de 
 la Caraïbe.Sous le parrainage du champion olympique Daniel Jérent\, le T
 IE promet une semaine de sport de haut niveau\, de partage et de découver
 tes.Entrée : Libre et ouverte à tous		\n																														\n
 					INFOS PRATIQUES				\n					\n									Tous les événements\n					\n		
 Au programme🗓️ Du 20 au 24 octobreCompétitions internationalesStages
  de perfectionnementFormations d’arbitrageExposition olympiqueAnimations
  culturelles et démonstrations interactives🎉 25 &amp\; 26 octobre – 
 Les grandes finales !Cérémonie d’ouvertureRencontres internationalesAn
 imations festives et remises de prix		\n			
ATTACH;FMTTYPE=image/jpeg:https://www.ville-petitbourg.fr/wp-content/uploa
 ds/2025/10/image-mise-en-avant-730-pxl-x-430-pxl--scaled.jpg
CATEGORIES:Loisir,Sport
END:VEVENT
BEGIN:VTIMEZONE
TZID:America/Guadeloupe
X-LIC-LOCATION:America/Guadeloupe
BEGIN:STANDARD
DTSTART:20241025T080000
TZOFFSETFROM:-0400
TZOFFSETTO:-0400
TZNAME:AST
END:STANDARD
END:VTIMEZONE
END:VCALENDAR