BEGIN:VCALENDAR
VERSION:2.0
PRODID:-//wp-events-plugin.com//7.2.3.1//EN
TZID:Europe/Paris
X-WR-TIMEZONE:Europe/Paris
BEGIN:VEVENT
UID:141@ville-petitbourg.fr
DTSTART;TZID=America/Guadeloupe:20250327T173000
DTEND;TZID=America/Guadeloupe:20250329T173000
DTSTAMP:20250325T154817Z
URL:https://www.ville-petitbourg.fr/events/tournoi-de-boxe-trophee-caribee
 n-2025/
SUMMARY:Tournoi de boxe : Trophée Caribéen 2025
DESCRIPTION:
ATTACH;FMTTYPE=image/jpeg:https://www.ville-petitbourg.fr/wp-content/uploa
 ds/2025/03/WhatsApp-Image-2025-03-24-at-15.25.54.jpeg
CATEGORIES:Sport
END:VEVENT
BEGIN:VTIMEZONE
TZID:America/Guadeloupe
X-LIC-LOCATION:America/Guadeloupe
BEGIN:STANDARD
DTSTART:20240327T173000
TZOFFSETFROM:-0400
TZOFFSETTO:-0400
TZNAME:AST
END:STANDARD
END:VTIMEZONE
END:VCALENDAR