BEGIN:VCALENDAR
VERSION:2.0
PRODID:-//wp-events-plugin.com//7.2.3.1//EN
TZID:Europe/Paris
X-WR-TIMEZONE:Europe/Paris
BEGIN:VEVENT
UID:51@ville-petitbourg.fr
DTSTART;TZID=America/Guadeloupe:20240529T000000
DTEND;TZID=America/Guadeloupe:20240602T000000
DTSTAMP:20240517T135907Z
URL:https://www.ville-petitbourg.fr/events/tournoi-de-basket-point-a-3/
SUMMARY:Tournoi de Basket "Point-à-3"
DESCRIPTION:Du 29 mai au 02 juin 2024\nSPORT\n🏀Initiée par l’associat
 ion "Douvan Nou Ka" et le Phoenix Club\, en collaboration avec la Ville de
  Petit-Bourg\, le tournoi de basket "Point-à-3" fait son come-back\, pour
  une 3ème édition\, au 📍Palais des sports Laura FLESSEL.  Cette ann
 ée une nouveauté vous attend. En ramenant vos déchets électriques ou 
 électroniques\, bénéficiez d'une inscription à 6euros au lieu de 10eur
 os. 👫Formez votre équipe mixte de 4 personnes et inscrivez-vous avant
  le 24 mai 2024. ℹ Catégories: U11\, U13\, U15\, U17\, Sénior\, Handi
 sport  Inscription et renseignements au 0690 23 20 08 / 0690 94 97 49 / 0
 690 16 23 68\nA qui s’adresser ?\nMairie de Petit-Bourg \n\n0590 95 38 
 00\n\n0590 95 38 01\n\nRue Victor SCHOELCHER 97170 Petit-Bourg\n\ncommunic
 ation@ville-petitbourg.fr\n\n\nINFOS PRATIQUES\n\nTous les événements\n\
 n\n 	Du 29 mai au 02 juin 2024\n 	Au Palais des sports Laura FLESSEL.\n\nM
 airie\nTél :0590 95 38 00\n\n
ATTACH;FMTTYPE=image/jpeg:https://www.ville-petitbourg.fr/wp-content/uploa
 ds/2024/05/436481226_852116720294183_6531274618425711148_n.jpg
CATEGORIES:Sport
END:VEVENT
BEGIN:VTIMEZONE
TZID:America/Guadeloupe
X-LIC-LOCATION:America/Guadeloupe
BEGIN:STANDARD
DTSTART:20230530T000000
TZOFFSETFROM:-0400
TZOFFSETTO:-0400
TZNAME:AST
END:STANDARD
END:VTIMEZONE
END:VCALENDAR