BEGIN:VCALENDAR
VERSION:2.0
PRODID:-//wp-events-plugin.com//7.2.3.1//EN
TZID:Europe/Paris
X-WR-TIMEZONE:Europe/Paris
BEGIN:VEVENT
UID:140@ville-petitbourg.fr
DTSTART;TZID=America/Guadeloupe:20250329T080000
DTEND;TZID=America/Guadeloupe:20250330T163000
DTSTAMP:20250325T152658Z
URL:https://www.ville-petitbourg.fr/events/tournoi-caribeen-descrime-du-co
 nseil-departemental/
SUMMARY:Tournoi caribéen d'escrime du Conseil Départemental
DESCRIPTION:															\n															
ATTACH;FMTTYPE=image/jpeg:https://www.ville-petitbourg.fr/wp-content/uploa
 ds/2025/03/Image-mise-en-avant-site-web-35.png
CATEGORIES:Sport
END:VEVENT
BEGIN:VTIMEZONE
TZID:America/Guadeloupe
X-LIC-LOCATION:America/Guadeloupe
BEGIN:STANDARD
DTSTART:20240329T080000
TZOFFSETFROM:-0400
TZOFFSETTO:-0400
TZNAME:AST
END:STANDARD
END:VTIMEZONE
END:VCALENDAR