BEGIN:VCALENDAR
VERSION:2.0
PRODID:-//wp-events-plugin.com//7.2.3.1//EN
TZID:Europe/Paris
X-WR-TIMEZONE:Europe/Paris
BEGIN:VEVENT
UID:130@ville-petitbourg.fr
DTSTART;TZID=America/Guadeloupe:20250308T170000
DTEND;TZID=America/Guadeloupe:20250308T200000
DTSTAMP:20250227T142837Z
URL:https://www.ville-petitbourg.fr/events/tibou-art-festival-2025-verniss
 age-de-ficadiere-evanor/
SUMMARY:TIBOU ART FESTIVAL 2025 : Vernissage de Ficadière EVANOR
DESCRIPTION:La Ville de Petit-Bourg a le plaisir de vous inviter au verniss
 age de l'artiste Ficadière EVANOR\, une célébration de l'art et de la c
 réativité.Samedi 8 mars 2025À partir de 17hFoyer Culturel de Petit-Bour
 g		\n																														\n		A qui s’adresser ? Mairie 0590 
 95 38 000590 95 38 01contact@ville-petitbourg.frRue Victor SCHOELCHER
ATTACH;FMTTYPE=image/jpeg:https://www.ville-petitbourg.fr/wp-content/uploa
 ds/2025/02/Image-mise-en-avant-site-web-27.png
CATEGORIES:Art
END:VEVENT
BEGIN:VTIMEZONE
TZID:America/Guadeloupe
X-LIC-LOCATION:America/Guadeloupe
BEGIN:STANDARD
DTSTART:20240308T170000
TZOFFSETFROM:-0400
TZOFFSETTO:-0400
TZNAME:AST
END:STANDARD
END:VTIMEZONE
END:VCALENDAR