BEGIN:VCALENDAR
VERSION:2.0
PRODID:-//wp-events-plugin.com//7.2.3.1//EN
TZID:Europe/Paris
X-WR-TIMEZONE:Europe/Paris
BEGIN:VEVENT
UID:153@ville-petitbourg.fr
DTSTART;TZID=America/Guadeloupe:20250527T190000
DTEND;TZID=America/Guadeloupe:20250527T235900
DTSTAMP:20250521T173832Z
URL:https://www.ville-petitbourg.fr/events/ti-koze-ti-istwa/
SUMMARY:Ti Kozé Ti Istwa
DESCRIPTION:Mercredi 27 mai 2025 - à partir de 19h				\n		Le Maire de la V
 ille de Petit-Bourg\, Monsieur David NEBOR\, vous invite à la manifestati
 on "Ti Kozé Ti Istwa"\, en commémoration à l'abolition de l'esclavage.
  Au programme :- Balade Patrimoniale à 19h : Port de la vinaigrerie\, Ma
 irie\, Monument aux Morts\, Église Notre-Dame de Bon-Port et Place Gertru
 de- Grand Lewoz à 21h\, au Foyer socioculturel près de la Poste 		\n			
 																											\n					INFOS PRATIQUES				\n					\n									Tou
 s les événements\n					\n		Mairie : 0590 95 38 00: contact@ville-petitb
 ourg.fr		\n			
ATTACH;FMTTYPE=image/jpeg:https://www.ville-petitbourg.fr/wp-content/uploa
 ds/2025/05/Image-mise-en-avant-site-web-46.png
CATEGORIES:Loisir
END:VEVENT
BEGIN:VTIMEZONE
TZID:America/Guadeloupe
X-LIC-LOCATION:America/Guadeloupe
BEGIN:STANDARD
DTSTART:20240527T190000
TZOFFSETFROM:-0400
TZOFFSETTO:-0400
TZNAME:AST
END:STANDARD
END:VTIMEZONE
END:VCALENDAR