BEGIN:VCALENDAR
VERSION:2.0
PRODID:-//wp-events-plugin.com//7.2.3.1//EN
TZID:Europe/Paris
X-WR-TIMEZONE:Europe/Paris
BEGIN:VEVENT
UID:93@ville-petitbourg.fr
DTSTART;TZID=America/Guadeloupe:20241019T190000
DTEND;TZID=America/Guadeloupe:20241019T220000
DTSTAMP:20241018T170827Z
URL:https://www.ville-petitbourg.fr/events/taekwondo-awards-ceremony-2024/
SUMMARY:Taekwondo Awards Ceremony 2024
DESCRIPTION:Samedi 19 octobre 2024 - de 19h à 22h		\n			SPORT		\n		Au prog
 ramme : Show artistiques et démonstration de l'Equipe de Guadeloupe.  Ta
 rif public 10€ - Gratuit pour les adhérents GTFDA Lieu : Palais des sp
 orts Laura FLESSEL 		\n																										\n			INFOS PRATIQUES		\n
 			\n									Tous les événements\n					\n		MairieTél :0590 95 38 00Mai
 l: contact@ville-petitbourg.fr		\n			
ATTACH;FMTTYPE=image/jpeg:https://www.ville-petitbourg.fr/wp-content/uploa
 ds/2024/10/Image-mise-en-avant-site-web-5.png
CATEGORIES:Sport
END:VEVENT
BEGIN:VTIMEZONE
TZID:America/Guadeloupe
X-LIC-LOCATION:America/Guadeloupe
BEGIN:STANDARD
DTSTART:20231020T190000
TZOFFSETFROM:-0400
TZOFFSETTO:-0400
TZNAME:AST
END:STANDARD
END:VTIMEZONE
END:VCALENDAR