BEGIN:VCALENDAR
VERSION:2.0
PRODID:-//wp-events-plugin.com//7.2.3.1//EN
TZID:Europe/Paris
X-WR-TIMEZONE:Europe/Paris
BEGIN:VEVENT
UID:99@ville-petitbourg.fr
DTSTART;TZID=America/Guadeloupe:20241123T160000
DTEND;TZID=America/Guadeloupe:20241123T223000
DTSTAMP:20241120T172505Z
URL:https://www.ville-petitbourg.fr/events/symposium-active-ta-sante-en-mu
 sique-avec-gcs/
SUMMARY:Symposium "Active ta santé en musique" avec GCS
DESCRIPTION:Mardi 28 février - 10 h 30 à 13 h		\n			LOISIR		\n		  Ils vo
 us donnent rendez-vous :-  Le samedi 23 novembre 2024\,-  De 16h00 à 22
 h30\,-  Au Palais des Sport Laura FLESSEL.  Renseignements au 0690 91 31
  95 		\n																										\n			INFOS PRATIQUES		\n			\n									T
 ous les événements\n					\n			
ATTACH;FMTTYPE=image/jpeg:https://www.ville-petitbourg.fr/wp-content/uploa
 ds/2024/11/Image-mise-en-avant-site-web-3.png
CATEGORIES:Loisir
END:VEVENT
BEGIN:VTIMEZONE
TZID:America/Guadeloupe
X-LIC-LOCATION:America/Guadeloupe
BEGIN:STANDARD
DTSTART:20231124T160000
TZOFFSETFROM:-0400
TZOFFSETTO:-0400
TZNAME:AST
END:STANDARD
END:VTIMEZONE
END:VCALENDAR