BEGIN:VCALENDAR
VERSION:2.0
PRODID:-//wp-events-plugin.com//7.2.3.1//EN
TZID:Europe/Paris
X-WR-TIMEZONE:Europe/Paris
BEGIN:VEVENT
UID:148@ville-petitbourg.fr
DTSTART;TZID=America/Guadeloupe:20250411T183000
DTEND;TZID=America/Guadeloupe:20250411T203000
DTSTAMP:20250407T172254Z
URL:https://www.ville-petitbourg.fr/events/swe-o-tibou-3/
SUMMARY:Swé O Tibou
DESCRIPTION:
ATTACH;FMTTYPE=image/jpeg:https://www.ville-petitbourg.fr/wp-content/uploa
 ds/2025/04/WhatsApp-Image-2025-04-07-at-10.25.18.jpeg
CATEGORIES:Sport
END:VEVENT
BEGIN:VTIMEZONE
TZID:America/Guadeloupe
X-LIC-LOCATION:America/Guadeloupe
BEGIN:STANDARD
DTSTART:20240411T183000
TZOFFSETFROM:-0400
TZOFFSETTO:-0400
TZNAME:AST
END:STANDARD
END:VTIMEZONE
END:VCALENDAR