BEGIN:VCALENDAR
VERSION:2.0
PRODID:-//wp-events-plugin.com//7.2.3.1//EN
TZID:Europe/Paris
X-WR-TIMEZONE:Europe/Paris
BEGIN:VEVENT
UID:84@ville-petitbourg.fr
DTSTART;TZID=America/Guadeloupe;VALUE=DATE:20240930
DTEND;TZID=America/Guadeloupe;VALUE=DATE:20241005
DTSTAMP:20240927T215124Z
URL:https://www.ville-petitbourg.fr/events/semaine-bleue/
SUMMARY:Semaine Bleue
DESCRIPTION:Du lundi 30 au vendredi 4 septembre 2024		\n			Citoyenneté		\n
 		 Pour cette édition 2024\, le CCAS et la Ville de Petit-Bourg vous don
 ne rendez-vous :Le lundi 30 septembre : Marche Intergénérationnelle à P
 ointe-à-BacchusLe jeudi 3 octobre\, de 9h à 13h : Forum des séniors au 
 Palais des Sports L. FLESSEL (divers stands présents)Le vendredi 4 octobr
 e : Jardin potager créole\, de 9h à 11h\, à la résidence séniors  
   Renseignements au 0590 95 36 06 		\n																										\n			INF
 OS PRATIQUES		\n			\n									Tous les événements\n					\n		Du 30 au 4 o
 ctobre 2024Semaine BleueCCASTél :0590 95 36 06		\n			
ATTACH;FMTTYPE=image/jpeg:https://www.ville-petitbourg.fr/wp-content/uploa
 ds/2024/09/Image-mise-en-avant-site-web-2.png
END:VEVENT
BEGIN:VTIMEZONE
TZID:America/Guadeloupe
X-LIC-LOCATION:America/Guadeloupe
BEGIN:STANDARD
DTSTART:20231001T000000
TZOFFSETFROM:-0400
TZOFFSETTO:-0400
TZNAME:AST
END:STANDARD
END:VTIMEZONE
END:VCALENDAR