BEGIN:VCALENDAR
VERSION:2.0
PRODID:-//wp-events-plugin.com//7.2.3.1//EN
TZID:Europe/Paris
X-WR-TIMEZONE:Europe/Paris
BEGIN:VEVENT
UID:168@ville-petitbourg.fr
DTSTART;TZID=America/Guadeloupe:20251008T090000
DTEND;TZID=America/Guadeloupe:20251008T160000
DTSTAMP:20250925T202711Z
URL:https://www.ville-petitbourg.fr/events/semaine-bleue-rencontre-interge
 nerationnelle/
SUMMARY:Semaine Bleue : Rencontre intergénérationnelle
DESCRIPTION:Mercredi 8 octobre - 09h à 16h				\n					SOCIAL				\n		Du 6 au
  12 octobre\, la Ville de Petit-Bourg célèbre la Semaine Bleue !Une sema
 ine nationale dédiée aux retraités et aux personnes âgées\, placée s
 ous le thème :"Vieillir : une force à partager."Le mercredi 8\,de 9h à 
 16h\,rendez-vous à la salle polyvalente Frédéric Dégnace de Saint-Jean
 pour une rencontre intergénérationnelle avec les élèves du collège F
 élix Eboué.Au programme : jeux de société\, lecture\, cuisine\, et num
 érique !		\n																														\n					INFOS PRATIQUES				\n			
 		\n									Tous les événements\n					\n		Inscriptions et renseignement
 s CCASTél : 0590 69 64 99		\n			
ATTACH;FMTTYPE=image/jpeg:https://www.ville-petitbourg.fr/wp-content/uploa
 ds/2025/09/feed-scaled-e1758831186957.jpeg
CATEGORIES:Citoyenneté
END:VEVENT
BEGIN:VTIMEZONE
TZID:America/Guadeloupe
X-LIC-LOCATION:America/Guadeloupe
BEGIN:STANDARD
DTSTART:20241008T090000
TZOFFSETFROM:-0400
TZOFFSETTO:-0400
TZNAME:AST
END:STANDARD
END:VTIMEZONE
END:VCALENDAR