BEGIN:VCALENDAR
VERSION:2.0
PRODID:-//wp-events-plugin.com//7.2.3.1//EN
TZID:Europe/Paris
X-WR-TIMEZONE:Europe/Paris
BEGIN:VEVENT
UID:169@ville-petitbourg.fr
DTSTART;TZID=America/Guadeloupe:20251009T090000
DTEND;TZID=America/Guadeloupe:20251009T110000
DTSTAMP:20250925T203738Z
URL:https://www.ville-petitbourg.fr/events/semaine-bleue-conference-debat-
 les-cles-du-bien-vieillir/
SUMMARY:Semaine Bleue : Conférence-débat “les clés du bien vieillir”
DESCRIPTION:Jeudi 9 octobre - 9h à 11h				\n					SOCIAL				\n		Du 6 au 12 
 octobre\, la Ville de Petit-Bourg célèbre la Semaine Bleue !Une semaine 
 nationale dédiée aux retraités et aux personnes âgées\, placée sous 
 le thème :« Vieillir : une force à partager. »Jeudi 9\, de 9h à 11h
 \, à la salle polyvalente Frédéric Dégnace.Conférence-débat sur “
 les clés du bien vieillir”avec les intervenants suivants :- La Mutualit
 é Française – Mme Marie-Lise SALIN\, Docteure en Psychologie sur le bi
 en-être des séniors- Le GIP-RASPEG		\n																														\n		
 			INFOS PRATIQUES				\n					\n									Tous les événements\n					\n		In
 scriptions et renseignementsCCASTél : 0590 69 64 99		\n			
ATTACH;FMTTYPE=image/jpeg:https://www.ville-petitbourg.fr/wp-content/uploa
 ds/2025/09/feed-scaled-e1758831186957.jpeg
CATEGORIES:Citoyenneté
END:VEVENT
BEGIN:VTIMEZONE
TZID:America/Guadeloupe
X-LIC-LOCATION:America/Guadeloupe
BEGIN:STANDARD
DTSTART:20241009T090000
TZOFFSETFROM:-0400
TZOFFSETTO:-0400
TZNAME:AST
END:STANDARD
END:VTIMEZONE
END:VCALENDAR