BEGIN:VCALENDAR
VERSION:2.0
PRODID:-//wp-events-plugin.com//7.2.3.1//EN
TZID:Europe/Paris
X-WR-TIMEZONE:Europe/Paris
BEGIN:VEVENT
UID:170@ville-petitbourg.fr
DTSTART;TZID=America/Guadeloupe:20251010T090000
DTEND;TZID=America/Guadeloupe:20251010T110000
DTSTAMP:20250925T203547Z
URL:https://www.ville-petitbourg.fr/events/semaine-bleue-conference-debat-
 la-sante-des-aidants/
SUMMARY:Semaine Bleue : Conférence-débat “la santé des aidants”
DESCRIPTION:Vendredi 10 octobre - 9h à 11h				\n					SOCIAL				\n		Du 6 au
  12 octobre\, la Ville de Petit-Bourg célèbre la Semaine Bleue !Une sema
 ine nationale dédiée aux retraités et aux personnes âgées\, placée s
 ous le thème :« Vieillir : une force à partager. »vendredi 10 octobr
 e 2025\,de 9h à 11h\, à la salle des délibérations de la Mairie.Conf
 érence-débat sur “la santé des aidants” avec la coach-thérapeute G
 ina NEBOUCHON à la salle des délibération de la Mairie.		\n												
 																		\n					INFOS PRATIQUES				\n					\n									Tous les év
 énements\n					\n		Inscriptions et renseignementsCCASTél : 0590 69 64 99
 		\n			
ATTACH;FMTTYPE=image/jpeg:https://www.ville-petitbourg.fr/wp-content/uploa
 ds/2025/09/feed-scaled-e1758831186957.jpeg
CATEGORIES:Citoyenneté
END:VEVENT
BEGIN:VTIMEZONE
TZID:America/Guadeloupe
X-LIC-LOCATION:America/Guadeloupe
BEGIN:STANDARD
DTSTART:20241010T090000
TZOFFSETFROM:-0400
TZOFFSETTO:-0400
TZNAME:AST
END:STANDARD
END:VTIMEZONE
END:VCALENDAR