BEGIN:VCALENDAR
VERSION:2.0
PRODID:-//wp-events-plugin.com//7.2.3.1//EN
TZID:Europe/Paris
X-WR-TIMEZONE:Europe/Paris
BEGIN:VEVENT
UID:26@ville-petitbourg.fr
DTSTART;TZID=America/Guadeloupe:20240316T100000
DTEND;TZID=America/Guadeloupe:20240316T180000
DTSTAMP:20240312T172441Z
URL:https://www.ville-petitbourg.fr/events/rtf-taekwondo-open/
SUMMARY:RTF TAEKWONDO OPEN
DESCRIPTION:SPORT		\n		Samedi 16 mars 2024 - 10h à 18hPalais des sports La
 ura FLESSELCompetition ouverte UNIQUEMENT aux ceintures blanches\, jaunes 
 et oranges
ATTACH;FMTTYPE=image/jpeg:https://www.ville-petitbourg.fr/wp-content/uploa
 ds/2024/03/429836532_914404474026852_805598199998563793_n.jpg
CATEGORIES:Sport
LOCATION:Palais des sports Laura FLESSEL\, Rue Victor Hugues\, Petit-Bourg\
 , Guadeloupe
GEO:16.198536;-61.590443
X-APPLE-STRUCTURED-LOCATION;VALUE=URI;X-ADDRESS=Rue Victor Hugues\, Petit-B
 ourg\, Guadeloupe;X-APPLE-RADIUS=100;X-TITLE=Palais des sports Laura FLESS
 EL:geo:16.198536,-61.590443
END:VEVENT
BEGIN:VTIMEZONE
TZID:America/Guadeloupe
X-LIC-LOCATION:America/Guadeloupe
BEGIN:STANDARD
DTSTART:20230317T100000
TZOFFSETFROM:-0400
TZOFFSETTO:-0400
TZNAME:AST
END:STANDARD
END:VTIMEZONE
END:VCALENDAR