BEGIN:VCALENDAR
VERSION:2.0
PRODID:-//wp-events-plugin.com//7.2.3.1//EN
TZID:Europe/Paris
X-WR-TIMEZONE:Europe/Paris
BEGIN:VEVENT
UID:160@ville-petitbourg.fr
DTSTART;TZID=America/Guadeloupe:20250801T183000
DTEND;TZID=America/Guadeloupe:20250801T213000
DTSTAMP:20250724T195252Z
URL:https://www.ville-petitbourg.fr/events/reunion-publique/
SUMMARY:Réunion Publique
DESCRIPTION:Vendredi 1er Août - 18h30				\n		Monsieur le Maire David Nebor
  et sa municipalité vous convient à une réunion publique dédiée autra
 nsport :le vendredi 1er août à 18h30\, sur la place Dominique Larifla.Un
 e rencontre ouverte à tous pour découvrir la stratégie de transport urb
 ain et scolaire sur le territoire de laVille de Petit-Bourg\, en présence
  des représentants de la CANBT et du Syndicat Mixte des Transports duPeti
 t Cul-de-Sac Marin (SMT).Un moment d’échange essentiel sur l’avenir d
 es déplacements dans notreterritoire		\n															
ATTACH;FMTTYPE=image/jpeg:https://www.ville-petitbourg.fr/wp-content/uploa
 ds/2025/07/Image-mise-en-avant-site-web.png
CATEGORIES:Citoyenneté
END:VEVENT
BEGIN:VTIMEZONE
TZID:America/Guadeloupe
X-LIC-LOCATION:America/Guadeloupe
BEGIN:STANDARD
DTSTART:20240801T183000
TZOFFSETFROM:-0400
TZOFFSETTO:-0400
TZNAME:AST
END:STANDARD
END:VTIMEZONE
END:VCALENDAR