BEGIN:VCALENDAR
VERSION:2.0
PRODID:-//wp-events-plugin.com//7.2.3.1//EN
TZID:Europe/Paris
X-WR-TIMEZONE:Europe/Paris
BEGIN:VEVENT
UID:178@ville-petitbourg.fr
DTSTART;TZID=Europe/Paris:20251117T103000
DTEND;TZID=Europe/Paris:20251117T113000
DTSTAMP:20251117T141246Z
URL:https://www.ville-petitbourg.fr/events/reunion-intranet/
SUMMARY:Réunion intranet
DESCRIPTION:Texte fictif :\n\nPour obtenir la certification\, la Ville s’
 est appuyée sur les conseils du consultant qualité\, Neeria. Alors que l
 ’accueil de l’hôtel de ville et les services situés au rez-de-chauss
 ée ont été réorganisés ces dernières années\, l’accent est mis su
 r la qualité des services de la direction de la Relation aux usagers (acc
 ueil informatif\,affaires générales\, guichet familles et État civil/Do
 maine funéraire).
ATTACH;FMTTYPE=image/jpeg:https://www.ville-petitbourg.fr/wp-content/uploa
 ds/2025/08/ORCHESTRA-intro.jpg
CATEGORIES:Intranet
END:VEVENT
BEGIN:VTIMEZONE
TZID:Europe/Paris
X-LIC-LOCATION:Europe/Paris
BEGIN:STANDARD
DTSTART:20251026T020000
TZOFFSETFROM:+0200
TZOFFSETTO:+0100
TZNAME:CET
END:STANDARD
END:VTIMEZONE
END:VCALENDAR