BEGIN:VCALENDAR
VERSION:2.0
PRODID:-//wp-events-plugin.com//7.2.3.1//EN
TZID:Europe/Paris
X-WR-TIMEZONE:Europe/Paris
BEGIN:VEVENT
UID:40@ville-petitbourg.fr
DTSTART;TZID=America/Guadeloupe:20240419T093000
DTEND;TZID=America/Guadeloupe:20240419T120000
DTSTAMP:20240418T163538Z
URL:https://www.ville-petitbourg.fr/events/reunion-dinformation-sur-le-dem
 antelement-du-reseau-cuivre/
SUMMARY:Réunion d'information sur le démantèlement du réseau cuivre
DESCRIPTION:Vendredi 19 avril - 9h30 à 12h\nSENIORS\n Pour cette réunion 
 d'information pour les séniors et les clubs des aînés\, le CCAS et la V
 ille de Petit-Bourg vous donne rendez-vous :-  Le vendredi 19 avril 2024\
 ,-  Dès 9h30\,-  A la Salle des Délibérations de la Ville\, en Mairie
 \n\n Le thème abordé sera le démantèlement du réseau cuivre au profit
  de la fibre optique\, d'ici janvier 2025.\n\nL'arrêt du cuivre affectera
  tous les abonnés de Petit-Bourg dans un premier temps parce que la Ville
  de Petit-Bourg est celle qui opérera cette transition en premier en Guad
 eloupe d'ici 2025.\n\nPour informer la population à entrevoir les impacts
  et démarches à entreprendre\, la Ville organise un réunion d'informati
 on.\n\nLes opérateurs tels qu'Orange Caraïbe\, SFR Caraïbe\, et Canal b
 ox seront présents pour répondre à toutes les questions !\n\n Pour plu
 s de renseignements contacter le CCAS au 0590 95 36 06\n\nINFOS PRATIQUES\
 n\nTous les événements\n\n\n 	Le vendredi 19 avril 2024\n 	Dès 9h30\,\n
  	A la salle des Délibérations de la Ville.\n\nMairie\nTél :0590 95 38 
 00\n\n
ATTACH;FMTTYPE=image/jpeg:https://www.ville-petitbourg.fr/wp-content/uploa
 ds/2024/04/WhatsApp-Image-2024-04-18-at-11.14.29.jpeg
END:VEVENT
BEGIN:VTIMEZONE
TZID:America/Guadeloupe
X-LIC-LOCATION:America/Guadeloupe
BEGIN:STANDARD
DTSTART:20230420T093000
TZOFFSETFROM:-0400
TZOFFSETTO:-0400
TZNAME:AST
END:STANDARD
END:VTIMEZONE
END:VCALENDAR