BEGIN:VCALENDAR
VERSION:2.0
PRODID:-//wp-events-plugin.com//7.2.3.1//EN
TZID:Europe/Paris
X-WR-TIMEZONE:Europe/Paris
BEGIN:VEVENT
UID:46@ville-petitbourg.fr
DTSTART;TZID=America/Guadeloupe:20240430T180000
DTEND;TZID=America/Guadeloupe:20240430T200000
DTSTAMP:20240426T174655Z
URL:https://www.ville-petitbourg.fr/events/reunion-dinformation-demantelem
 ent-du-cuivre-pour-les-professionnels/
SUMMARY:Réunion d'information démantèlement du cuivre pour les professio
 nnels
DESCRIPTION:Mardi 30 avril - 18h00		\n			INFORMATION		\n		La campagne d'inf
 ormation relative au démantèlement du cuivre à Petit-Bourg se poursuit.
  A ce titre\, la Ville de Petit-Bourg en collaboration avec Orange Caraibe
 s\, SFR Caraibe\, Canal Box et Dauphin Telecom organise une réunion d'inf
 ormation à destination des entreprises et administrations implantées sur
  le territoire:le mardi 30 avril 2024\, à partir de 18h00\, au Palais des
  Sports Laura Flessel.Pour rappel\, dans le cadre du Plan France Très Hau
 t Débit mené par le Gouvernement\, le déploiement de la fibre optique 
 s’accélère sur l’ensemble des territoires. D’ici le 31 janvier 202
 5\, la Ville de Petit-Bourg aura totalement basculé vers la fibre optique
 \, plus rapide et plus puissante. Petit-Bourg\, est la 1ere commune de G
 uadeloupe à être concernée par cette première vague de démantèlemen
 t du réseau cuivre au niveau national.L’arrêt du réseau cuivre affect
 era tous les abonnés. Tôt ou tard\, la ligne téléphonique classique se
 ra désactivée puis démontée. Il est donc crucial d’anticiper ce chan
 gement dès que possible pour éviter toute interruption des services inte
 rnet\, téléphonie\, télévision.Pour prévenir la population et rappele
 r les échéances de migration\, la municipalité mène une importante cam
 pagne de communication sur le territoire avec l'ensemble des opérateurs c
 oncernés.		\n																														\n			INFOS PRATIQUES		\n			\n	
 					Tous les événements\n					\n		Dossier spécial sur le démantèleme
 nt du cuivre à Petit-Bourg 		\n			
ATTACH;FMTTYPE=image/jpeg:https://www.ville-petitbourg.fr/wp-content/uploa
 ds/2024/04/DEMANTELEMENT-CUIVRE-FLYER-REUNION-INFO-SENIORS4.png
END:VEVENT
BEGIN:VTIMEZONE
TZID:America/Guadeloupe
X-LIC-LOCATION:America/Guadeloupe
BEGIN:STANDARD
DTSTART:20230501T180000
TZOFFSETFROM:-0400
TZOFFSETTO:-0400
TZNAME:AST
END:STANDARD
END:VTIMEZONE
END:VCALENDAR