BEGIN:VCALENDAR
VERSION:2.0
PRODID:-//wp-events-plugin.com//7.2.3.1//EN
TZID:Europe/Paris
X-WR-TIMEZONE:Europe/Paris
BEGIN:VEVENT
UID:155@ville-petitbourg.fr
DTSTART;TZID=America/Guadeloupe:20250611T183000
DTEND;TZID=America/Guadeloupe:20250611T203000
DTSTAMP:20250606T154055Z
URL:https://www.ville-petitbourg.fr/events/reunion-de-quartier-a-bergette/
SUMMARY:Réunion de quartier à Bergette
DESCRIPTION:Mercredi 11 juin 2025 - 18h30				\n		Le Maire de la Ville de Pe
 tit-Bourg\, Monsieur David NEBOR\, vous invite à la réunion de quartier 
 à Bergette le mercredi 11 juin 2025\, 18h30.  -  Le mercredi 11 juin 2
 025\,-  Dès 18h30\,-  À la Maison de quartier de Bergette Ordre du jo
 ur :- Actualité de la commune- Questions diverses  		\n					INFOS PRATI
 QUES				\n					\n									Tous les événements\n					\n		Mairie : 0590 9
 5 38 00: contact@ville-petitbourg.fr		\n			
ATTACH;FMTTYPE=image/jpeg:https://www.ville-petitbourg.fr/wp-content/uploa
 ds/2025/06/Image-mise-en-avant-site-web-3.png
CATEGORIES:Citoyenneté
END:VEVENT
BEGIN:VTIMEZONE
TZID:America/Guadeloupe
X-LIC-LOCATION:America/Guadeloupe
BEGIN:STANDARD
DTSTART:20240611T183000
TZOFFSETFROM:-0400
TZOFFSETTO:-0400
TZNAME:AST
END:STANDARD
END:VTIMEZONE
END:VCALENDAR