BEGIN:VCALENDAR
VERSION:2.0
PRODID:-//wp-events-plugin.com//7.2.3.1//EN
TZID:Europe/Paris
X-WR-TIMEZONE:Europe/Paris
BEGIN:VEVENT
UID:54@ville-petitbourg.fr
DTSTART;TZID=America/Guadeloupe:20240531T000000
DTEND;TZID=America/Guadeloupe:20240602T000000
DTSTAMP:20240517T161048Z
URL:https://www.ville-petitbourg.fr/events/rendez-vous-aux-jardins/
SUMMARY:Rendez-vous aux jardins
DESCRIPTION:Le 31 mai et le 1er 		\n			LOISIR		\n		  La bibliothèque mun
 icipale du Bourg vous donne rendez-vous :-  Le vendredi 31 mai\, de 8h 
 à 18h:8h/16h30: Exposition "Eveil des sens"18h: Conférence-débat sur le
 s "Sens et les Plantes" animée par M.Occibrun de l'associ -  Le samedi 
 1er juin 2024\, de 8h à 12h30:Exposition "Eveil des sens" et atelier tein
 ture végétale pour les enfantsParcours découvert des 5 sens au jardinEc
 hanges de plantes aromatiques entre particuliersAtelier dégustation		\n		
 																								\n			INFOS PRATIQUES		\n			\n									Tous les év
 énements\n					\n		Le vendredi 31 mai et samedi 1er juin 2024Dès 8h\,A l
 a bibliothèque municipale du Bourg.MairieTél :0590 95 38 00		\n			
ATTACH;FMTTYPE=image/jpeg:https://www.ville-petitbourg.fr/wp-content/uploa
 ds/2024/05/Rendez-vous-au-jardin-2023.png
CATEGORIES:Loisir
END:VEVENT
BEGIN:VTIMEZONE
TZID:America/Guadeloupe
X-LIC-LOCATION:America/Guadeloupe
BEGIN:STANDARD
DTSTART:20230601T000000
TZOFFSETFROM:-0400
TZOFFSETTO:-0400
TZNAME:AST
END:STANDARD
END:VTIMEZONE
END:VCALENDAR