BEGIN:VCALENDAR
VERSION:2.0
PRODID:-//wp-events-plugin.com//7.2.3.1//EN
TZID:Europe/Paris
X-WR-TIMEZONE:Europe/Paris
BEGIN:VEVENT
UID:117@ville-petitbourg.fr
DTSTART;TZID=America/Guadeloupe:20250124T180000
DTEND;TZID=America/Guadeloupe:20250124T213000
DTSTAMP:20250116T164011Z
URL:https://www.ville-petitbourg.fr/events/rencontre-litteraire/
SUMMARY:Rencontre littéraire
DESCRIPTION:
ATTACH;FMTTYPE=image/jpeg:https://www.ville-petitbourg.fr/wp-content/uploa
 ds/2025/01/rencontre-litteraire-24-janv.png
CATEGORIES:Loisir
END:VEVENT
BEGIN:VTIMEZONE
TZID:America/Guadeloupe
X-LIC-LOCATION:America/Guadeloupe
BEGIN:STANDARD
DTSTART:20240125T180000
TZOFFSETFROM:-0400
TZOFFSETTO:-0400
TZNAME:AST
END:STANDARD
END:VTIMEZONE
END:VCALENDAR