BEGIN:VCALENDAR
VERSION:2.0
PRODID:-//wp-events-plugin.com//7.2.3.1//EN
TZID:Europe/Paris
X-WR-TIMEZONE:Europe/Paris
BEGIN:VEVENT
UID:104@ville-petitbourg.fr
DTSTART;TZID=America/Guadeloupe:20241212T183000
DTEND;TZID=America/Guadeloupe:20241212T203000
DTSTAMP:20241211T125714Z
URL:https://www.ville-petitbourg.fr/events/rencontre-litteraire-avec-loic-
 lery/
SUMMARY:Rencontre littéraire avec Loïc LERY
DESCRIPTION:Jeudi 12 décembre 2024		\n		Le Maire de la Ville de Petit-Bour
 g\, Monsieur David NEBOR\, vous invite à la rencontre littéraire de ce j
 eudi 12 décembre\, avec Loïc LERY connu pour son célèbre roman "LE GAN
 G DES ANTILLAIS". -  Dès 20h\,-  À la salle des délibérations de la
  Mairie.		\n																										\n			INFOS PRATIQUES		\n			\n							
 		Tous les événements\n					\n		contact.ville@ville-petitbourg.frMairieT
 él : 0590 95 38 00		\n			
ATTACH;FMTTYPE=image/jpeg:https://www.ville-petitbourg.fr/wp-content/uploa
 ds/2025/09/Image-intro-par-defaut.jpg
CATEGORIES:Loisir
END:VEVENT
BEGIN:VTIMEZONE
TZID:America/Guadeloupe
X-LIC-LOCATION:America/Guadeloupe
BEGIN:STANDARD
DTSTART:20231213T183000
TZOFFSETFROM:-0400
TZOFFSETTO:-0400
TZNAME:AST
END:STANDARD
END:VTIMEZONE
END:VCALENDAR