BEGIN:VCALENDAR
VERSION:2.0
PRODID:-//wp-events-plugin.com//7.2.3.1//EN
TZID:Europe/Paris
X-WR-TIMEZONE:Europe/Paris
BEGIN:VEVENT
UID:43@ville-petitbourg.fr
DTSTART;TZID=America/Guadeloupe:20240507T180000
DTEND;TZID=America/Guadeloupe:20240507T210000
DTSTAMP:20240426T172301Z
URL:https://www.ville-petitbourg.fr/events/rencontre-litteraire-a-la-bibli
 otheque-du-bourg/
SUMMARY:Rencontre littéraire à la bibliothèque du Bourg
DESCRIPTION:Mardi 7 mai - à partir de 18h		\n			Loisirs		\n		&nbsp\;\n&nbs
 p\;Au programme de cette rencontre\, un échange avec Madame France LUISSA
 INT\, une femme entrepreneur inspirante\, ayant créé le business de ses 
 rêves. Celle-ci\, apparaît dans le livre "Impacter au Féminin" à trave
 rs lequel elle raconte son parcours.\n&nbsp\;\n Renseignements au 0590 95 
 52 23.\n&nbsp\;\n																														\n			INFOS PRATIQUES		\n			
 \n						Tous les événements\n					\n		Le vendredi 22 mars 2024Dès 18h\,
 A l’arboretum de Montebello Petit-Bourg.MairieTél :06 68 85 12 83		\n		
 	
ATTACH;FMTTYPE=image/jpeg:https://www.ville-petitbourg.fr/wp-content/uploa
 ds/2024/04/rencontre-litteraire-4.png
CATEGORIES:Loisir
END:VEVENT
BEGIN:VTIMEZONE
TZID:America/Guadeloupe
X-LIC-LOCATION:America/Guadeloupe
BEGIN:STANDARD
DTSTART:20230508T180000
TZOFFSETFROM:-0400
TZOFFSETTO:-0400
TZNAME:AST
END:STANDARD
END:VTIMEZONE
END:VCALENDAR