BEGIN:VCALENDAR
VERSION:2.0
PRODID:-//wp-events-plugin.com//7.2.3.1//EN
TZID:Europe/Paris
X-WR-TIMEZONE:Europe/Paris
BEGIN:VEVENT
UID:142@ville-petitbourg.fr
DTSTART;TZID=America/Guadeloupe:20250411T180000
DTEND;TZID=America/Guadeloupe:20250411T203000
DTSTAMP:20250326T145906Z
URL:https://www.ville-petitbourg.fr/events/rencontre-litteraire-3/
SUMMARY:Rencontre littéraire
DESCRIPTION:Vendredi 11 avril 2025 - 18h\nLe Maire de la Ville de Petit-Bou
 rg\, Monsieur David NEBOR\, vous invite à la prochaine rencontre littéra
 ire :  -  Le vendredi 11 avril 2025\,-  Dès 18h\,-  À l'Espace Cult
 urel et Multimédia de la Lézarde. Cette rencontre sera animée par le p
 hotographe Cédric-Isham CALVADOS\, en tant que collaborateur sur le livre
  "La Grande aventure".\nINFOS PRATIQUES\n\nTous les événements\n\n\nMair
 ie\n\n : 0590 95 38 00\n\n: contact@ville-petitbourg.fr\n\n
ATTACH;FMTTYPE=image/jpeg:https://www.ville-petitbourg.fr/wp-content/uploa
 ds/2025/03/Image-mise-en-avant-site-web-36.png
CATEGORIES:Loisir
END:VEVENT
BEGIN:VTIMEZONE
TZID:America/Guadeloupe
X-LIC-LOCATION:America/Guadeloupe
BEGIN:STANDARD
DTSTART:20240411T180000
TZOFFSETFROM:-0400
TZOFFSETTO:-0400
TZNAME:AST
END:STANDARD
END:VTIMEZONE
END:VCALENDAR