BEGIN:VCALENDAR
VERSION:2.0
PRODID:-//wp-events-plugin.com//7.2.3.1//EN
TZID:Europe/Paris
X-WR-TIMEZONE:Europe/Paris
BEGIN:VEVENT
UID:122@ville-petitbourg.fr
DTSTART;TZID=America/Guadeloupe:20250207T183000
DTEND;TZID=America/Guadeloupe:20250207T200000
DTSTAMP:20250205T132142Z
URL:https://www.ville-petitbourg.fr/events/rencontre-litteraire-2/
SUMMARY:Rencontre littéraire
DESCRIPTION:Vendredi 7 février 2025 - 18h30				\n		La Ville de Petit-Bourg
  vous invite à une rencontre littéraire avec Nathan LUCE\, l'auteur du l
 ivre "Permets que je te parle"\, en présence de Raymond PROCES\, Michel N
 . CHRISTOPHE et Eddy ARNELL.  Rendez-vous :-  le Vendredi 7 février 2025
 \,-  à 18h30\,-  à l'Espace Culturel et Multimédia de la Lézarde  Pou
 r plus d'infos : 0590 25 32 87		\n					INFOS PRATIQUES				\n					\n							
 		Tous les événements\n					\n		Mairie : 0590 95 38 00: contact@ville-p
 etitbourg.fr		\n			
ATTACH;FMTTYPE=image/jpeg:https://www.ville-petitbourg.fr/wp-content/uploa
 ds/2025/02/Image-mise-en-avant-site-web-20.png
CATEGORIES:Loisir
END:VEVENT
BEGIN:VTIMEZONE
TZID:America/Guadeloupe
X-LIC-LOCATION:America/Guadeloupe
BEGIN:STANDARD
DTSTART:20240208T183000
TZOFFSETFROM:-0400
TZOFFSETTO:-0400
TZNAME:AST
END:STANDARD
END:VTIMEZONE
END:VCALENDAR