BEGIN:VCALENDAR
VERSION:2.0
PRODID:-//wp-events-plugin.com//7.2.3.1//EN
TZID:Europe/Paris
X-WR-TIMEZONE:Europe/Paris
BEGIN:VEVENT
UID:52@ville-petitbourg.fr
DTSTART;TZID=America/Guadeloupe:20240527T070000
DTEND;TZID=America/Guadeloupe:20240527T170000
DTSTAMP:20240517T143323Z
URL:https://www.ville-petitbourg.fr/events/relais-inter-entreprises/
SUMMARY:RELAIS INTER-ENTREPRISES
DESCRIPTION:Lundi 27 mai - à partir de 7h		\n			SPORT		\n		 La Ville de Pe
 tit-Bourg accueille pour la seconde année consécutive le départ du Rela
 is Inter Entreprises du 27 mai\, une course pédestre par équipe pour com
 mémorer l'abolition de l'esclavage en Guadeloupe.  Pour cette 24ème éd
 ition:-  Thématique: le handicap-  Parrainée par Joël POMPILUS\, exp
 ert comptable et commissaire aux comptes-  Départ: 7h00 Petit-Bourg - 
  Arrivée: Vieux-Habitant 		\n																										\n			INFOS PRATIQ
 UES		\n			\n									Tous les événements\n					\n		Le lundi 27 mai 2024D
 ès 7h\,Départ: Petit-Bourg et arrivée: Vieux-Habitants.MairieTél :0590
  95 38 00		\n			
ATTACH;FMTTYPE=image/jpeg:https://www.ville-petitbourg.fr/wp-content/uploa
 ds/2024/05/434329661_736071472040079_4160356658241822796_n.jpg
END:VEVENT
BEGIN:VTIMEZONE
TZID:America/Guadeloupe
X-LIC-LOCATION:America/Guadeloupe
BEGIN:STANDARD
DTSTART:20230528T070000
TZOFFSETFROM:-0400
TZOFFSETTO:-0400
TZNAME:AST
END:STANDARD
END:VTIMEZONE
END:VCALENDAR