BEGIN:VCALENDAR
VERSION:2.0
PRODID:-//wp-events-plugin.com//7.2.3.1//EN
TZID:Europe/Paris
X-WR-TIMEZONE:Europe/Paris
BEGIN:VEVENT
UID:120@ville-petitbourg.fr
DTSTART;TZID=America/Guadeloupe;VALUE=DATE:20250130
DTEND;TZID=America/Guadeloupe;VALUE=DATE:20250218
DTSTAMP:20250131T133523Z
URL:https://www.ville-petitbourg.fr/events/recrutement-de-papis-et-mamies-
 trafic/
SUMMARY:Recrutement de Papis et Mamies Trafic
DESCRIPTION:Avant le 17 février 2025\n\nLa Ville de Petit-Bourg recrute de
 s Papis et Mamies Trafic ! \n\nVous êtes retraité(e) jusqu'à 72 ans et 
 résidez à proximité d'une école de Petit-Bourg ?\n\nRejoignez-nous pou
 r assurer la sécurité des enfants aux entrées et sorties des écoles ! 
 \n\n 12 postes à pourvoir\n Déposez votre dossier de candidature à la p
 olice municipale avant le 17 février 2025\n\n Points de retrait des dossi
 ers :\n Police municipale\n CCAS\n Cité administrative\n\nParce que la s
 écurité de nos enfants est l'affaire de tous ! \n\nINFOS PRATIQUES\n\nTo
 us les événements\n\n\nPolice Municipale\n\n : 0590 95 49 90\n\n: police
 .municipale@ville-petitbourg.fr\n\n
ATTACH;FMTTYPE=image/jpeg:https://www.ville-petitbourg.fr/wp-content/uploa
 ds/2025/01/Image-mise-en-avant-site-web-17-1.png
END:VEVENT
BEGIN:VTIMEZONE
TZID:America/Guadeloupe
X-LIC-LOCATION:America/Guadeloupe
BEGIN:STANDARD
DTSTART:20240131T000000
TZOFFSETFROM:-0400
TZOFFSETTO:-0400
TZNAME:AST
END:STANDARD
END:VTIMEZONE
END:VCALENDAR