BEGIN:VCALENDAR
VERSION:2.0
PRODID:-//wp-events-plugin.com//7.2.3.1//EN
TZID:Europe/Paris
X-WR-TIMEZONE:Europe/Paris
BEGIN:VEVENT
UID:66@ville-petitbourg.fr
DTSTART;TZID=America/Guadeloupe:20240717T170000
DTEND;TZID=America/Guadeloupe:20240717T193000
DTSTAMP:20240716T141804Z
URL:https://www.ville-petitbourg.fr/events/reception-des-bacheliers-2024/
SUMMARY:Réception des Bacheliers 2024
DESCRIPTION:Mercredi 17 juillet - 17h00 à 19h30\nJEUNESSE\n\n\n\nFélicita
 tions aux nouveaux Bacheliers 2024 de la Ville de Petit-Bourg et plus glob
 alement à tous les bacheliers de l’académie Guadeloupe.\nCette réussi
 te est le couronnement d’un travail assidu fourni tout au long de votre 
 parcours scolaire et notamment lors de cette dernière année.\nPour les r
 écompenser\, David NEBOR\, le Maire de la Ville de Petit-Bourg et le CCAS
  organisent la traditionnelle cérémonie de remise des prix en l’honneu
 r des bacheliers :\n\n\n 	 le  17/07/24\, \n 	à 17H00\, \n 	au Palais d
 es Sports LAURA FLESSEL.\n\nPour y participer\, les bacheliers sont invit
 és à s’inscrire via le formulaire en ligne:\nCLIQUEZ ICI\nProlongation
  des inscriptions toute la journée du mardi 16 juillet 2024\n\nINFOS PRAT
 IQUES\n\nTous les événements\n\n\nPièces à fournir:\n\n- Pièce d'iden
 tité\;\n\n- Justificatif d'adresse\;\n\n- Relevé de note\;\n\n- RIB au n
 om de l'intéressé.\n\nContact : CCAS de la Ville au 0590 95 36 06\n\n
ATTACH;FMTTYPE=image/jpeg:https://www.ville-petitbourg.fr/wp-content/uploa
 ds/2024/07/cover-site-web-1.png
END:VEVENT
BEGIN:VTIMEZONE
TZID:America/Guadeloupe
X-LIC-LOCATION:America/Guadeloupe
BEGIN:STANDARD
DTSTART:20230718T170000
TZOFFSETFROM:-0400
TZOFFSETTO:-0400
TZNAME:AST
END:STANDARD
END:VTIMEZONE
END:VCALENDAR