BEGIN:VCALENDAR
VERSION:2.0
PRODID:-//wp-events-plugin.com//7.2.3.1//EN
TZID:Europe/Paris
X-WR-TIMEZONE:Europe/Paris
BEGIN:VEVENT
UID:85@ville-petitbourg.fr
DTSTART;TZID=America/Guadeloupe:20240921T194500
DTEND;TZID=America/Guadeloupe:20240921T200000
DTSTAMP:20240919T171559Z
URL:https://www.ville-petitbourg.fr/events/projection-du-film-memoires-de-
 cases/
SUMMARY:Projection du Film "Mémoires de cases"
DESCRIPTION:Samedi 21 septembre - 19h45\nPATRIMOINE - HISTOIRE\nLe 5 octobr
 e prochain\, aura lieu l’inauguration du projet « mémoires de cases »
  dans les rues de Petit-Bourg\, vous êtes cordialement invités à assist
 er à la projection du film documentaire du même nom.  Rendez-vous :- le
  samedi 21 septembre\,- à 19h45\,- sur la place Dominique LARIFLA.  Pour
  en savoir plus : CLIQUEZ ICI\n\nINFOS PRATIQUES\n\nTous les événements\
 n\n\n 	\n\n
ATTACH;FMTTYPE=image/jpeg:https://www.ville-petitbourg.fr/wp-content/uploa
 ds/2024/09/image0.png
CATEGORIES:Art,Histoire
END:VEVENT
BEGIN:VTIMEZONE
TZID:America/Guadeloupe
X-LIC-LOCATION:America/Guadeloupe
BEGIN:STANDARD
DTSTART:20230922T194500
TZOFFSETFROM:-0400
TZOFFSETTO:-0400
TZNAME:AST
END:STANDARD
END:VTIMEZONE
END:VCALENDAR