BEGIN:VCALENDAR
VERSION:2.0
PRODID:-//wp-events-plugin.com//7.2.3.1//EN
TZID:Europe/Paris
X-WR-TIMEZONE:Europe/Paris
BEGIN:VEVENT
UID:167@ville-petitbourg.fr
DTSTART;TZID=America/Guadeloupe:20250926T190000
DTEND;TZID=America/Guadeloupe:20250926T190000
DTSTAMP:20250925T190905Z
URL:https://www.ville-petitbourg.fr/events/presentation-de-lapplication-pa
 rachey/
SUMMARY:Présentation de l'application "Parachéy"
DESCRIPTION:Vendredi 26 septembre - 19h				\n					ENVIRONNEMENT				\n		Pré
 server la pharmacopée traditionnelle des Antilles et la rendre accessible
  au grand public grâce à une application moderne\, intuitive et scientif
 iquement validée\, c’est désormais possible.Découvrez-la en avant-pre
 mière et participez à la conférence participative « Apprendre à ident
 ifier les plantes qui nous entourent » : 📅 le vendredi 26 septembre 2
 025 🕓 À partir de 19 h 📍 Salle des délibérations de la Mairie		
 \n																														\n					INFOS PRATIQUES				\n					\n							
 		Tous les événements\n					\n		Le vendredi 22 mars 2024Dès 18h\,A l’
 arboretum de Montebello Petit-Bourg.MairieTél :06 68 85 12 83		\n			
ATTACH;FMTTYPE=image/jpeg:https://www.ville-petitbourg.fr/wp-content/uploa
 ds/2025/09/WhatsApp-Image-2025-09-24-at-10.38.05-copie.jpeg
CATEGORIES:Environnement
END:VEVENT
BEGIN:VTIMEZONE
TZID:America/Guadeloupe
X-LIC-LOCATION:America/Guadeloupe
BEGIN:STANDARD
DTSTART:20240926T190000
TZOFFSETFROM:-0400
TZOFFSETTO:-0400
TZNAME:AST
END:STANDARD
END:VTIMEZONE
END:VCALENDAR