BEGIN:VCALENDAR
VERSION:2.0
PRODID:-//wp-events-plugin.com//7.2.3.1//EN
TZID:Europe/Paris
X-WR-TIMEZONE:Europe/Paris
BEGIN:VEVENT
UID:86@ville-petitbourg.fr
DTSTART;TZID=America/Guadeloupe:20241005T090000
DTEND;TZID=America/Guadeloupe:20241005T120000
DTSTAMP:20240926T132434Z
URL:https://www.ville-petitbourg.fr/events/plateau-minibad/
SUMMARY:PLATEAU MINIBAD
DESCRIPTION:/*! elementor - v3.21.0 - 30-04-2024 */\n.elementor-heading-tit
 le{padding:0\;margin:0\;line-height:1}.elementor-widget-heading .elementor
 -heading-title[class*=elementor-size-]>a{color:inherit\;font-size:inherit\
 ;line-height:inherit}.elementor-widget-heading .elementor-heading-title.el
 ementor-size-small{font-size:15px}.elementor-widget-heading .elementor-hea
 ding-title.elementor-size-medium{font-size:19px}.elementor-widget-heading 
 .elementor-heading-title.elementor-size-large{font-size:29px}.elementor-wi
 dget-heading .elementor-heading-title.elementor-size-xl{font-size:39px}.el
 ementor-widget-heading .elementor-heading-title.elementor-size-xxl{font-si
 ze:59px}Samedi 5 octobre - 9h à 12h		\n			SPORT ET LOISIR		\n		 Organisé
 e par le club de badminton de la ville \,le Karukera Sporting Club\, cette
  manifestation vise à initié les jeunes de 4 à 8 ans au badminton.-  L
 e samedi 5 octobre 2024\,-  Dès 9h\,-  Au Palais des Sports Laura FLESS
 EL- Entrée libre et gratuite  Au programme: initiation\, animation\, jeu
 x et goûter  Renseignements au 0690 49 86 62. 		\n			/*! elementor - v3
 .21.0 - 30-04-2024 */\n.elementor-widget-image{text-align:center}.elemento
 r-widget-image a{display:inline-block}.elementor-widget-image a img[src$="
 .svg"]{width:48px}.elementor-widget-image img{vertical-align:middle\;displ
 ay:inline-block}																							\n			INFOS PRATIQUES		\n			\n						
 			Tous les événements\n					\n		Le vendredi 22 mars 2024Dès 18h\,A l
 ’arboretum de Montebello Petit-Bourg.MairieTél :06 68 85 12 83		\n			/*
 ! elementor - v3.21.0 - 30-04-2024 */\n.elementor-widget-google_maps .elem
 entor-widget-container{overflow:hidden}.elementor-widget-google_maps .elem
 entor-custom-embed{line-height:0}.elementor-widget-google_maps iframe{heig
 ht:300px}		\n			
ATTACH;FMTTYPE=image/jpeg:https://www.ville-petitbourg.fr/wp-content/uploa
 ds/2024/09/plateauminibad-final.jpg
CATEGORIES:Sport
END:VEVENT
BEGIN:VTIMEZONE
TZID:America/Guadeloupe
X-LIC-LOCATION:America/Guadeloupe
BEGIN:STANDARD
DTSTART:20231006T090000
TZOFFSETFROM:-0400
TZOFFSETTO:-0400
TZNAME:AST
END:STANDARD
END:VTIMEZONE
END:VCALENDAR