BEGIN:VCALENDAR
VERSION:2.0
PRODID:-//wp-events-plugin.com//7.2.3.1//EN
TZID:Europe/Paris
X-WR-TIMEZONE:Europe/Paris
BEGIN:VEVENT
UID:35@ville-petitbourg.fr
DTSTART;TZID=America/Guadeloupe:20240416T090000
DTEND;TZID=America/Guadeloupe:20240416T120000
DTSTAMP:20240412T170122Z
URL:https://www.ville-petitbourg.fr/events/permanence-retraite-a-la-maison
 -france-service-du-bourg/
SUMMARY:Permanence retraite à la Maison France Service du Bourg
DESCRIPTION:Mardi 16 avril - 9h		\n			Séniors		\n		 Le Maire de la Ville d
 e Petit-Bourg\, Monsieur David NEBOR informe la population âgée de 56 an
 s et plus\, que la Caisse Générale de Sécurité Sociale « Service Retr
 aite » organise une réunion d’information sur les dispositions pour la
  retraite. Les personnes souhaitant y participer\, sont priées de se mun
 ir obligatoirement de leur numéro de sécurité sociale.  La MFS vous d
 onne rendez-vous :-  Le mardi 16 avril 2024\,-  Dès 9h\,-  A la Maison
  France Service du Bourg   Renseignements au 0590 69 66 97. 		\n							
 																							\n			INFOS PRATIQUES		\n			\n						Tous les événe
 ments\n					\n		Le mardi 16 avril 2024Dès 9h\,A la Maison France Service 
 du BourgMaison France Service (Bourg)Tél :0590 69 66 97		\n			
ATTACH;FMTTYPE=image/jpeg:https://www.ville-petitbourg.fr/wp-content/uploa
 ds/2024/04/Maison-France-Services-Point-Multi-Accueil-Social.png
CATEGORIES:Citoyenneté
END:VEVENT
BEGIN:VTIMEZONE
TZID:America/Guadeloupe
X-LIC-LOCATION:America/Guadeloupe
BEGIN:STANDARD
DTSTART:20230417T090000
TZOFFSETFROM:-0400
TZOFFSETTO:-0400
TZNAME:AST
END:STANDARD
END:VTIMEZONE
END:VCALENDAR