BEGIN:VCALENDAR
VERSION:2.0
PRODID:-//wp-events-plugin.com//7.2.3.1//EN
TZID:Europe/Paris
X-WR-TIMEZONE:Europe/Paris
BEGIN:VEVENT
UID:91@ville-petitbourg.fr
DTSTART;TZID=America/Guadeloupe:20241030T080000
DTEND;TZID=America/Guadeloupe:20241030T163000
DTSTAMP:20241017T152901Z
URL:https://www.ville-petitbourg.fr/events/permanence-des-elus/
SUMMARY:Permanence des élus
DESCRIPTION:Mercredi 30 octobre 2024 - de 8h à 17h		\n			CITOYENNETE		\n		
 Le Maire de la Ville de Petit-Bourg\, David NEBOR vous informe qu'une perm
 anence des élus se tiendra le 30 octobre prochain de 8h à 17h\, à l'Hô
 tel de Ville. Vos élus seront à votre écoute pour échanger\, soumettr
 e vos idées ou vos projets\, et répondre à toutes vos interrogations. V
 ous pourrez vous inscrire au 0690 94 33 40 du 21 au 25 octobre 2024 de 8h0
 0 à 12h00.		\n																										\n			INFOS PRATIQUES		\n			\n				
 					Tous les événements\n					\n		MairieTél :0590 95 38 00		\n			
ATTACH;FMTTYPE=image/jpeg:https://www.ville-petitbourg.fr/wp-content/uploa
 ds/2024/10/Image-mise-en-avant-site-web-3-1.png
CATEGORIES:Citoyenneté
END:VEVENT
BEGIN:VTIMEZONE
TZID:America/Guadeloupe
X-LIC-LOCATION:America/Guadeloupe
BEGIN:STANDARD
DTSTART:20231031T080000
TZOFFSETFROM:-0400
TZOFFSETTO:-0400
TZNAME:AST
END:STANDARD
END:VTIMEZONE
END:VCALENDAR