BEGIN:VCALENDAR
VERSION:2.0
PRODID:-//wp-events-plugin.com//7.2.3.1//EN
TZID:Europe/Paris
X-WR-TIMEZONE:Europe/Paris
BEGIN:VEVENT
UID:59@ville-petitbourg.fr
DTSTART;TZID=America/Guadeloupe:20240703T090000
DTEND;TZID=America/Guadeloupe:20240703T110000
DTSTAMP:20240702T163129Z
URL:https://www.ville-petitbourg.fr/events/permanence-de-lelue-jocelyne-un
 imon/
SUMMARY:Permanence de l'élue Jocelyne UNIMON
DESCRIPTION:Mercredi 03 juillet - 9h à 11h		\n			CITOYENNETE		\n		Mme Joce
 lyne UNIMON\, 2nd adjointe au Maire\, vous informe de la mise en place de 
 permanence pour les administrés:Mercredi 3 juillet 2024de 9h à 11h\, Mai
 son France Services de Prise d’Eau.Jeudi 4 juillet 2024de 9h à 11h\, Es
 pace Public Numérique de Carrère.Inscription recommandée.		\n			INFOS P
 RATIQUES		\n			\n									Tous les événements\n					\n		Pour plus d’in
 formation au : 0590 95 59 14		\n			
ATTACH;FMTTYPE=image/jpeg:https://www.ville-petitbourg.fr/wp-content/uploa
 ds/2024/07/449164459_879524174220104_323747059684709211_n.jpg
CATEGORIES:Citoyenneté
END:VEVENT
BEGIN:VTIMEZONE
TZID:America/Guadeloupe
X-LIC-LOCATION:America/Guadeloupe
BEGIN:STANDARD
DTSTART:20230704T090000
TZOFFSETFROM:-0400
TZOFFSETTO:-0400
TZNAME:AST
END:STANDARD
END:VTIMEZONE
END:VCALENDAR