BEGIN:VCALENDAR
VERSION:2.0
PRODID:-//wp-events-plugin.com//7.2.3.1//EN
TZID:Europe/Paris
X-WR-TIMEZONE:Europe/Paris
BEGIN:VEVENT
UID:60@ville-petitbourg.fr
DTSTART;TZID=America/Guadeloupe:20240704T090000
DTEND;TZID=America/Guadeloupe:20240704T110000
DTSTAMP:20240702T163250Z
URL:https://www.ville-petitbourg.fr/events/permanence-de-lelue-jocelyne-un
 imon-2/
SUMMARY:Permanence de l'élue Jocelyne UNIMON
DESCRIPTION:Jeudi 04 juillet - 9h à 11h\nCITOYENNETE\n\nMme Jocelyne UNIMO
 N\, 2nd adjointe au Maire\, vous informe de la mise en place de permanence
  pour les administrés:\n\n 	Mercredi 3 juillet 2024\n\nde 9h à 11h\, Mai
 son France Services de Prise d’Eau.\n\n 	Jeudi 4 juillet 2024\n\nde 9h 
 à 11h\, Espace Public Numérique de Carrère.\n\nInscription recommandée
 .\n\nINFOS PRATIQUES\n\nTous les événements\n\n\nPour plus d’informati
 on au : 0590 95 59 14\n\n
ATTACH;FMTTYPE=image/jpeg:https://www.ville-petitbourg.fr/wp-content/uploa
 ds/2024/07/449164459_879524174220104_323747059684709211_n.jpg
CATEGORIES:Citoyenneté
END:VEVENT
BEGIN:VTIMEZONE
TZID:America/Guadeloupe
X-LIC-LOCATION:America/Guadeloupe
BEGIN:STANDARD
DTSTART:20230705T090000
TZOFFSETFROM:-0400
TZOFFSETTO:-0400
TZNAME:AST
END:STANDARD
END:VTIMEZONE
END:VCALENDAR