BEGIN:VCALENDAR
VERSION:2.0
PRODID:-//wp-events-plugin.com//7.2.3.1//EN
TZID:Europe/Paris
X-WR-TIMEZONE:Europe/Paris
BEGIN:VEVENT
UID:156@ville-petitbourg.fr
DTSTART;TZID=America/Guadeloupe:20250614T060000
DTEND;TZID=America/Guadeloupe:20250614T090000
DTSTAMP:20250612T171327Z
URL:https://www.ville-petitbourg.fr/events/parcours-du-coeur-du-ccas/
SUMMARY:Parcours du cœur 2025
DESCRIPTION:\nA qui s’adresser ?\nCCAS\n\n0590 69 64 99\n\n0690 71 59 40
ATTACH;FMTTYPE=image/jpeg:https://www.ville-petitbourg.fr/wp-content/uploa
 ds/2025/06/image-en-av-parcours-du-coeur.png
CATEGORIES:Sport
END:VEVENT
BEGIN:VTIMEZONE
TZID:America/Guadeloupe
X-LIC-LOCATION:America/Guadeloupe
BEGIN:STANDARD
DTSTART:20240614T060000
TZOFFSETFROM:-0400
TZOFFSETTO:-0400
TZNAME:AST
END:STANDARD
END:VTIMEZONE
END:VCALENDAR