BEGIN:VCALENDAR
VERSION:2.0
PRODID:-//wp-events-plugin.com//7.2.3.1//EN
TZID:Europe/Paris
X-WR-TIMEZONE:Europe/Paris
BEGIN:VEVENT
UID:62@ville-petitbourg.fr
DTSTART;TZID=America/Guadeloupe:20240712T100000
DTEND;TZID=America/Guadeloupe:20240712T230000
DTSTAMP:20240710T163200Z
URL:https://www.ville-petitbourg.fr/events/ose-ta-jeunesse/
SUMMARY:Ose Ta Jeunesse
DESCRIPTION:Vendredi 12 juillet - \n10h à 23h		\n			JEUNESSE		\n		L'évén
 ement "OSE TA JEUNESSE" est de retour à Petit-Bourg. Programme de la jou
 rnée: 10h00: ouverture des portes et accueil des participants10h45: Vill
 age d'information et d'animation avec Pole emploi\, le Paje\, simulateurs 
 de vol...11h00: Job dating avec Mac Donalds et Optimum interim12h30 - 14h3
 0: Pause déjeuner et réseautage14h30 - 17h00: Ouverture des stands de pr
 évention19h00 à 23h00: Concert\, Tous Responsables avec KRYS\, RACHELLE 
 ALLISON\, SAMX et bien d'autres		\n			/*! elementor - v3.21.0 - 30-04-2024
  */\n.elementor-column .elementor-spacer-inner{height:var(--spacer-size)}.
 e-con{--container-widget-width:100%}.e-con-inner>.elementor-widget-spacer\
 ,.e-con>.elementor-widget-spacer{width:var(--container-widget-width\,var(-
 -spacer-size))\;--align-self:var(--container-widget-align-self\,initial)\;
 --flex-shrink:0}.e-con-inner>.elementor-widget-spacer>.elementor-widget-co
 ntainer\,.e-con>.elementor-widget-spacer>.elementor-widget-container{heigh
 t:100%\;width:100%}.e-con-inner>.elementor-widget-spacer>.elementor-widget
 -container>.elementor-spacer\,.e-con>.elementor-widget-spacer>.elementor-w
 idget-container>.elementor-spacer{height:100%}.e-con-inner>.elementor-widg
 et-spacer>.elementor-widget-container>.elementor-spacer>.elementor-spacer-
 inner\,.e-con>.elementor-widget-spacer>.elementor-widget-container>.elemen
 tor-spacer>.elementor-spacer-inner{height:var(--container-widget-height\,v
 ar(--spacer-size))}.e-con-inner>.elementor-widget-spacer.elementor-widget-
 empty\,.e-con>.elementor-widget-spacer.elementor-widget-empty{position:rel
 ative\;min-height:22px\;min-width:22px}.e-con-inner>.elementor-widget-spac
 er.elementor-widget-empty .elementor-widget-empty-icon\,.e-con>.elementor-
 widget-spacer.elementor-widget-empty .elementor-widget-empty-icon{position
 :absolute\;top:0\;bottom:0\;left:0\;right:0\;margin:auto\;padding:0\;width
 :22px\;height:22px}		\n			\n									Récupère ton pass BIZOUK\n					\n		
 																								\n			INFOS PRATIQUES		\n			\n									Tous les év
 énements\n					\n		Le vendredi 12 juillet 2024Dès 10h\,Au Palais des spo
 rts Laura FLESSEL (Pointe-à-Bacchus)		\n			
ATTACH;FMTTYPE=image/jpeg:https://www.ville-petitbourg.fr/wp-content/uploa
 ds/2024/07/visuel-image-site-web.jpeg
END:VEVENT
BEGIN:VTIMEZONE
TZID:America/Guadeloupe
X-LIC-LOCATION:America/Guadeloupe
BEGIN:STANDARD
DTSTART:20230713T100000
TZOFFSETFROM:-0400
TZOFFSETTO:-0400
TZNAME:AST
END:STANDARD
END:VTIMEZONE
END:VCALENDAR