BEGIN:VCALENDAR
VERSION:2.0
PRODID:-//wp-events-plugin.com//7.2.3.1//EN
TZID:Europe/Paris
X-WR-TIMEZONE:Europe/Paris
BEGIN:VEVENT
UID:25@ville-petitbourg.fr
DTSTART;TZID=America/Guadeloupe:20240316T083000
DTEND;TZID=America/Guadeloupe:20240316T170000
DTSTAMP:20240312T172001Z
URL:https://www.ville-petitbourg.fr/events/operation-de-nettoyage/
SUMMARY:Opération de Nettoyage
DESCRIPTION:VIE SCOLAIRE		\n		A l'occasion de la journée mondiale du recyl
 clage\, la ville de Petit-Bourg en collaboration avec l'association Clean 
 My Island et la Communauté d'agglomération du Nord Basse-Terre organisen
 t une grande opération de nettoyage écocitoyenne le Samedi 16 mars 2024 
 à 8h30\, Chemin de Nesty (section Pérou). Cet événement est ouvert à
  tous. 
ATTACH;FMTTYPE=image/jpeg:https://www.ville-petitbourg.fr/wp-content/uploa
 ds/2024/03/flyer-1.jpg
END:VEVENT
BEGIN:VTIMEZONE
TZID:America/Guadeloupe
X-LIC-LOCATION:America/Guadeloupe
BEGIN:STANDARD
DTSTART:20230317T083000
TZOFFSETFROM:-0400
TZOFFSETTO:-0400
TZNAME:AST
END:STANDARD
END:VTIMEZONE
END:VCALENDAR